BEGIN:VCALENDAR
VERSION:2.0
PRODID:-//LHoFT - ECPv6.15.17//NONSGML v1.0//EN
CALSCALE:GREGORIAN
METHOD:PUBLISH
X-WR-CALNAME:LHoFT
X-ORIGINAL-URL:https://lhoft.com
X-WR-CALDESC:Events for LHoFT
REFRESH-INTERVAL;VALUE=DURATION:PT1H
X-Robots-Tag:noindex
X-PUBLISHED-TTL:PT1H
BEGIN:VTIMEZONE
TZID:Europe/Luxembourg
BEGIN:DAYLIGHT
TZOFFSETFROM:+0100
TZOFFSETTO:+0200
TZNAME:CEST
DTSTART:20240331T010000
END:DAYLIGHT
BEGIN:STANDARD
TZOFFSETFROM:+0200
TZOFFSETTO:+0100
TZNAME:CET
DTSTART:20241027T010000
END:STANDARD
BEGIN:DAYLIGHT
TZOFFSETFROM:+0100
TZOFFSETTO:+0200
TZNAME:CEST
DTSTART:20250330T010000
END:DAYLIGHT
BEGIN:STANDARD
TZOFFSETFROM:+0200
TZOFFSETTO:+0100
TZNAME:CET
DTSTART:20251026T010000
END:STANDARD
BEGIN:DAYLIGHT
TZOFFSETFROM:+0100
TZOFFSETTO:+0200
TZNAME:CEST
DTSTART:20260329T010000
END:DAYLIGHT
BEGIN:STANDARD
TZOFFSETFROM:+0200
TZOFFSETTO:+0100
TZNAME:CET
DTSTART:20261025T010000
END:STANDARD
END:VTIMEZONE
BEGIN:VTIMEZONE
TZID:UTC
BEGIN:STANDARD
TZOFFSETFROM:+0000
TZOFFSETTO:+0000
TZNAME:UTC
DTSTART:20240101T000000
END:STANDARD
END:VTIMEZONE
BEGIN:VEVENT
DTSTART;TZID=Europe/Luxembourg:20250523T164500
DTEND;TZID=Europe/Luxembourg:20250523T190000
DTSTAMP:20260424T143525
CREATED:20250505T151503Z
LAST-MODIFIED:20250505T151820Z
UID:37821-1748018700-1748026800@lhoft.com
SUMMARY:Fintech Discovery: Exponential India
DESCRIPTION:LHoFT & IBCL – Fintech Discovery: Exponential India\nBridging Cross Border Innovation in Finance \nHosted by The LHoFT & Indian Business Chamber of Luxembourg (IBCL) \nJoin us for an exclusive edition of Fintech Discovery at the Luxembourg House of Financial Technology (LHoFT)\, where we spotlight India–Luxembourg Fintech collaboration and explore cross-border innovation opportunities. \nThis dynamic event will bring together leading voices from finance\, technology\, and investment communities in both regions to discuss: \n✅ Fintech success stories\n✅ Market entry opportunities\n✅ Emerging trends and challenges in cross-border finance \nREGISTER HERE
URL:https://lhoft.com/event/fintech-discovery-exponential-india/
LOCATION:LHoFT\, Luxembourg\, LHoFT\, Luxembourg\, Luxembourg\, Luxembourg
CATEGORIES:event,In-person event
ATTACH;FMTTYPE=image/png:https://lhoft.com/wp-content/uploads/2025/05/2160x1080_MLU_EXP_INDIA_23.05.25-2160-x-1080-px-3.png
END:VEVENT
BEGIN:VEVENT
DTSTART;VALUE=DATE:20250617
DTEND;VALUE=DATE:20250619
DTSTAMP:20260424T143525
CREATED:20250114T091655Z
LAST-MODIFIED:20250616T082446Z
UID:32494-1750118400-1750291199@lhoft.com
SUMMARY:LHoFT at NEXUS 2025
DESCRIPTION:📍 Luxembourg\, LuxExpo | LHoFT Stand: F23 – Financial DistrictDAY 1 – TUESDAY\, JUNE 17\, 2025\n10:00 AM – 12:00 PM | Main Stage | Opening Ceremony \n\nH.R.H. the Crown Prince Guillaume Jean Joseph Marie – The Grand Ducal Family\n\n\n11:00 AM – 11:30 PM | LHoFT Stand F23 | Meet our Partner: Franklin Templeton \n\nMeet Craig Blair – CEO\, Franklin Templeton\n\n\n11:30 AM – 12:00 PM | LHoFT Stand F23 | Crypto Asset Management\n \n\nMeet our Research Manager Oriane Kaesmann for insights in Crypto Asset Management\n\n\n12:00 PM – 12:45 PM | Knowledge Stage 3 | Catapult: Future Foundation – Finalists Presentation \n\nAnna Sobkow – LHoFT Program Manager\nHenning Swabey –  CCO\, Governance.com\nGerard Hoffmann – CEO\, Proximus Luxembourg\nVincent Pignon\, Ph.D – CEO\, Wecan Group\nLaurent Denayer – CEO\, ume\n\n\n 1:00 PM – 1:30 PM | LHoFT Stand F23 | Visit of H.E. Gilles Roth – Luxembourg Minister of Finance  \n\n 1:00 PM – 1:10 PM | LHoFT Stand F23 | Group Picture – LHoFT Ecosystem Members \n\n 1:10 PM – 1:20 PM | LHoFT Stand F23 | MoU Signature: LHoFT + Plug and Play \n\n 1:20 PM – 1:30 PM | LHoFT Stand F23 | MoU Signature: LHoFT + Fintech Center Korea \n\n1:30 PM – 1:45 PM | Main Stage | Keynote: Financial Sector in 2025: Adapting to Tech Disruptions and Geopolitical Challenges \n\n H.E. Gilles Roth – Luxembourg Minister of Finance \n\n\n 2:00 PM – 2:45 PM | Stage A | CEO Panel: The State of Luxembourg’s Financial Industry \n\nNasir Zubairi – CEO\, LHoFT\nYves Stein – CEO\, ABBL\nClaude Marx – General Director\, CSSF\nThierry Flamand – President Exec. Committee\, CAA\nMarc Hengen – Managing Director\, ACA Luxembourg\nStephane Pesch – CEO\, LPEA\nSerge Weyland – CEO\, ALFI\n\n\n2:30 PM – 2:45 PM | LHoFT Stand F23 | Meet our Partner: EFG Bank \n\nJerome Benoit – CEO\, EFG Bank\n\n\n2:45 PM – 3:00 PM | LHoFT Stand F23 | Meet our Partner: Clifford Chance \n\nBoika Deleva – Counsel – Banking\, Finance and Capital Markets\, Clifford Chance\n\n\n3:00 PM – 3:15 PM | LHoFT Stand F23 | New Catapult Acceleration Program Announcement  \n\nNasir Zubairi – CEO\, LHoFT\nYves Stein – Chairman of the Board of Directors\, ABBL\n\n\n3:00 PM – 3:30 PM | LHoFT Stand F23 | Meet our Partner: BCEE \n\nRoger Kraemer and Jacques Putz from BCEE\n\n\n3:30 PM – 4:00 PM | LHoFT Stand F23 | Meet our Partner: PwC Luxembourg \n\nGrégory Weber – Managing Director\, PwC Luxembourg\n\n\n4:00 PM – 4:45 PM | Knowledge Stage 2 | From Good to Great: AI as a Catalyst for Financial Excellence \n\nNasir Zubairi – CEO\, LHoFT\nEsli Spahiu – AI Experience Center Manager\, LHoFT\nYves Cabanac – Managing Director France\, BeNeLux and Africa\, Plug and Play\nLaurens Vanryckeghem – BeNeLux Lead\, Plug and Play\nArthur Bessières – Principal\, Plug and Play\n\n\n5:00 PM – 6:00 PM | Deloitte Stand | AI Solutions Showcase \n\nDAY 2 – WEDNESDAY\, JUNE 18\, 202511:00 AM – 11:15 AM | LHoFT Stand F23 | Meet our Partner: KPMG \n\nDieter Putzeys – Partner\, KPMG\n\n\n11:30 AM – 12:00 PM | LHoFT Stand F23 | Meet our Partner: Raiffesein \n\nAnalia Clouet – Secretary General\, Raiffesein\n\n\n1:00 PM – 1:30 PM | Google Stand | Next-Gen Finance in Action: The AI Experience Centre Initiative \n\nNasir Zubairi – CEO\, LHoFT\nEsli Spahiu – AI Experience Center Manager\, LHoFT\n\n\n2:00 PM – 2:30 PM | LHoFT Stand F23 | Meet our Partner: BGL BNP Paribas \n\nYves Nosbusch – Head of Private Banking Luxembourg\, Chief Sustainability Officer & Chief Economist\, BGL BNP Paribas\n\n\n2:30 PM – 3:00 PM | Stage A | Panel: Fintech for Good \n\nAnnabelle Albert – Head of Acceleration Programs\, LHoFT\nLisette Cipriano – Principal Digital Technology Specialist\, Asian Development Bank (ADB)\nBegaim Sadyrova – Seed Capital Investment Manager\, Triple Jump\nNic Balaceanu – Founder & CEO\, Lenrise\nAxel De Ville – Chairman\, Financing Innovation Tool\, FIT\n\n\n3:00 PM – 3:30 PM | LHoFT Stand F23 | Meet our Partner: Deloitte \n\nGiulia Pescatori – Senior Manager\, Deloitte\n\n\n4:00 PM – 4:30 PM | Finance Stage A | Panel: Fintech Trends to Watch in 2025 & Beyond  \n\nAlex Panican – Deputy CEO\, LHoFT\nSungkyun SON – General Manager\, Fintech Center Korea\nAlice Rettig – Managing Director\, TechQuartier\nNikola Škorić – CEO\, Electrocoin d.o.o\nTakeshi Kito – Co-founder & CEO\, GFTN Japan\n\n\n5:00 PM – 6:00 PM | Knowledge Stage 3 | Pitches: Women in Finance & Technology Program  \n\nAntony Martini – LHoFT\, Head of Education\nWomen in Fintech Cohort\n\n\nAll Day | Finance District | LHoFT Stand F23 \n\nDiscover our Catapult SE Asia Cohort who are driving the future of financial inclusion. \n\n\n Join us at Nexus Luxembourg Nexus 2050: Luxembourg premier tech event uniting global leader to explore AI\, cybersecurity\, sustainability\, fintech and skills development. \nGet your ticket
URL:https://lhoft.com/event/lhoft-at-nexus-2025/
CATEGORIES:event,In-person event
ATTACH;FMTTYPE=image/png:https://lhoft.com/wp-content/uploads/2025/01/LHoFT-at-NEXUS-2025.png
END:VEVENT
BEGIN:VEVENT
DTSTART;TZID=Europe/Luxembourg:20250919T160000
DTEND;TZID=Europe/Luxembourg:20250919T223000
DTSTAMP:20260424T143525
CREATED:20250901T142104Z
LAST-MODIFIED:20251127T103700Z
UID:39150-1758297600-1758321000@lhoft.com
SUMMARY:Fintech Friday - September 2025
DESCRIPTION:Fintech Friday\nTHE FINALE – CATAPULT: GREEN FINTECH\nFintech Friday is back and this time we’re celebrating the grand finale of our 2nd edition of CATAPULT: Green Fintech! 🌱 \n📅 September 19\n🕜 4:00 PM – 10:30 PM \n📍 Big Bang\, LHoFT\n\nJoin us as we spotlight 10 cutting-edge fintech companies developing solutions that push the boundaries of green finance and crown the winner!\n \nProgram \n\n3:45pm – Welcoming\n4:00pm – Showtime! 🚀 (5min pitch + 2min Q&A)\nFeaturing: Carbonable\, DoLand\, Dunya Analytics\, Fidata\, Generation Impact Global\, i-ESG Inc\, Kanop (RAIL SAS)\, Penomo\, S.P.O.N.S.O.R\, ZERO13\n5:30pm – Fintech Friday & Jury deliberations\n6:00pm – Winner announcement 🏆\n10:00pm – Closing\n\n📸 Don’t miss the Fintech Friday photo booth\, where photographer Eric Devillet will capture the night’s best moments. \nGet your ticket
URL:https://lhoft.com/event/fintech-friday-september-2025/
LOCATION:LHoFT\, Luxembourg\, LHoFT\, Luxembourg\, Luxembourg\, Luxembourg
CATEGORIES:event,In-person event
ATTACH;FMTTYPE=image/png:https://lhoft.com/wp-content/uploads/2025/09/FINTECH-Friday-Sept.png
END:VEVENT
BEGIN:VEVENT
DTSTART;TZID=Europe/Luxembourg:20250922T170000
DTEND;TZID=Europe/Luxembourg:20250922T190000
DTSTAMP:20260424T143525
CREATED:20250903T091530Z
LAST-MODIFIED:20250912T093205Z
UID:39165-1758560400-1758567600@lhoft.com
SUMMARY:Fintech Campus Corporate+ The AI Era in Finance
DESCRIPTION:Fintech Campus Corporate+\nNavigating the AI Era in Finance\nKey strategies and use-cases\n\nWelcome to Fintech Campus C+ Afterwork\, an immersive LHoFT event where finance professionals explore the latest corporate and innovation strategies and business models in AI\, blockchain\, open finance\, sustainable finance\, and RegTech. Through expert briefings\, real case studies\, and interactive discussions\, participants gain the latest insights\, map Luxembourg’s fintech ecosystem\, and build high-value connections with founders\, innovators\, and industry leaders. \nWho it’s for\nStrategy\, compliance\, and technology leaders; executives and intrapreneurs; regulators. \nWhat you’ll gain \n\n    Practical\, up-to-date tech insights\n    Firsthand exposure to Europe’s fast-growing fintech hub\n    Actionable ideas for new business models\n    Direct networking with leading entrepreneurs\n\n\nAgenda \n5:00 – 5:15 | Welcome Note: Why now\, what’s changing\, and what matters. – Nasir Zubairi\, CEO of the LHoFT. \n5:15 – 5:40 | Panel Discussion: The AI Edge: Finance and the Luxembourg Factor\nTurning AI into competitive advantage in Luxembourg’s financial huh + live Q&A \n\nMarc Hotton\, Group Head of Innovation\, Foyer\nFrank Roessig\, Head AI Solutions\, Proximus\nFilipe Pais\, Chief Customer Officer\,\nLaurens Vanryckeghem\, Benelux Director\, Plug and Play Tech Center\nModerated by Esli Spahiu\, AI Experience Centre Manager\n\n5:40 – 6:00 | Fintech Pitches: Problem → solution → ROI \n\nKalipso – From 0 to 100\, become fully compliant with the latest regulations\nMarvelX – Transform Your Operations With Trusted AI Agents\n\n6:00 – 7:00 | Networking Drinks \nREGISTER HERE
URL:https://lhoft.com/event/fintech-campus-corporate-the-ai-era-in-finance/
LOCATION:LHoFT\, Luxembourg\, LHoFT\, Luxembourg\, Luxembourg\, Luxembourg
CATEGORIES:event,In-person event
ATTACH;FMTTYPE=image/png:https://lhoft.com/wp-content/uploads/2025/09/FCC-The-AI-Era-8-1.png
END:VEVENT
BEGIN:VEVENT
DTSTART;VALUE=DATE:20250930
DTEND;VALUE=DATE:20251002
DTSTAMP:20260424T143525
CREATED:20250404T131354Z
LAST-MODIFIED:20250404T132329Z
UID:36713-1759190400-1759363199@lhoft.com
SUMMARY:LHoFT at ALFI Private Assets Conference
DESCRIPTION:📍 Luxembourg\, Luxembourg |Annual conferences in Luxembourg and London attract expert audiences from Europe and overseas. Fund professionals come together to discuss latest market and regulatory developments with their peers\, and share best practices to lead their businesses to sustainable growth. Sponsors and exhibitors from the investment fund world can benefit from excellent industry exposure at these ALFI events. \n  \nLearn more 
URL:https://lhoft.com/event/lhoft-at-alfi-private-assets-conference/
LOCATION:luxexpo
CATEGORIES:In-person event
ATTACH;FMTTYPE=image/png:https://lhoft.com/wp-content/uploads/2025/04/LHoFT-EVENTS-2025-2-2.png
END:VEVENT
BEGIN:VEVENT
DTSTART;TZID=Europe/Luxembourg:20251010T080000
DTEND;TZID=Europe/Luxembourg:20251010T170000
DTSTAMP:20260424T143525
CREATED:20251010T140725Z
LAST-MODIFIED:20251010T140739Z
UID:39428-1760083200-1760115600@lhoft.com
SUMMARY:Luxembourg Venture Days 2025
DESCRIPTION:Luxembourg Venture Days 2025\nLuxinnovation and Luxembourg Private Equity & Venture Capital Association (LPEA) are joining forces again for the 3rd edition of the Luxembourg Venture Days. This event brings together pre-vetted ventures from across Europe and a highly engaged investor community for two days of pitches\, insights\, and powerful networking opportunities. \nLEARN MORE
URL:https://lhoft.com/event/luxembourg-venture-days-2025/
CATEGORIES:In-person event
ATTACH;FMTTYPE=image/png:https://lhoft.com/wp-content/uploads/2025/10/Captura-de-pantalla-2025-10-10-a-las-8.32.44-a.m.png
END:VEVENT
BEGIN:VEVENT
DTSTART;VALUE=DATE:20251013
DTEND;VALUE=DATE:20251018
DTSTAMP:20260424T143525
CREATED:20251010T125327Z
LAST-MODIFIED:20251020T185246Z
UID:39407-1760313600-1760745599@lhoft.com
SUMMARY:Catapult: Inclusion Africa - Kenya
DESCRIPTION:Catapult: Inclusion Africa – 8th Edition\n📍 Nairobi\, Kenya\nThe 8th edition of Catapult: Inclusion Africa will take place in collaboration with our main partner\, ADA\, during their prestigious African Inclusive Finance Week\, SAM 2025\, in Nairobi\, Kenya\, October 2025. This event offers a unique chance to connect with the most influential figures in the Inclusive Finance ecosystem\, not just regionally\, but globally. \nMEET THE COHORT\nABOUT THE PROGRAM
URL:https://lhoft.com/event/catapult-inclusion-africa-kenya/
CATEGORIES:In-person event
ATTACH;FMTTYPE=image/png:https://lhoft.com/wp-content/uploads/2025/10/CATAPULT-AFRICA-8TH-EDITION2.png
END:VEVENT
BEGIN:VEVENT
DTSTART;TZID=Europe/Luxembourg:20251020T080000
DTEND;TZID=Europe/Luxembourg:20251024T170000
DTSTAMP:20260424T143525
CREATED:20251010T132400Z
LAST-MODIFIED:20251010T132901Z
UID:39423-1760947200-1761325200@lhoft.com
SUMMARY:Catapult: BankTech - Luxembourg
DESCRIPTION:Catapult: Banktech – 1st Edition\n📍 Luxembourg\nCatapult: BankTech – Depositary Banking Edition (Oct 20-24\, 2025) is a one-week bootcamp by LHoFT and ABBL\, helping fintechs accelerate their growth in Luxembourg’s world-leading depositary banking sector. \nMEET THE COHORT\nJoin the Finale – Get Tickets Now
URL:https://lhoft.com/event/catapult-banktech-luxembourg/
CATEGORIES:In-person event
ATTACH;FMTTYPE=image/png:https://lhoft.com/wp-content/uploads/2025/10/All-logos-Alphabetical.png
END:VEVENT
BEGIN:VEVENT
DTSTART;TZID=Europe/Luxembourg:20251107T100000
DTEND;TZID=Europe/Luxembourg:20251107T180000
DTSTAMP:20260424T143525
CREATED:20251010T160501Z
LAST-MODIFIED:20251106T150921Z
UID:39432-1762509600-1762538400@lhoft.com
SUMMARY:Fintech Recruits - 4th Edition
DESCRIPTION:Fintech Recruits – 4th Edition\n📍 Luxembourg\nDigital Finance & Corporate Innovation LHoFT Recruitment Fair0000Days00Hrs00Min00Sec\n\nIn numbers\n\n1000+ opportunities available\n2000+ Job seekers: Innovation Enthusiasts\, Pros & Grads\n80+ Corporate & Fintech Recruiters\n60+ Speakers: Top Executives\, Thought Leaders & Entrepreneurs\n40+ European Business\, Tech & Finance Schools Represented\n\n\nAgenda 2025\n\n\n9:30 – Opening & Welcome\n11:00 – Fintech Campus Showcase (Auditoire Stage)\n13:00 – Headline Speeches (Auditoire Stage) \nOpening Welcome | Nasir Zubairi\, CEO\, LHoFT – Shaping the Future of Fintech Talent\nMinistry of Labour | Georges Mischo\, Minister of Labour – The Luxembourg Job Market & Innovation\nDigital Learning Hub | Dr Serge Linckels\, Managing Director – Upskilling in AI for a Competitive Career\nFinance & Talent Needs | LHoFT\, LFF\, ALFI\, ABBL – Luxembourg’s Financial & Fintech Ecosystem\nClosing Remarks | NATO NSPA\, Azimut / Beewise\, Ville d’Esch – Talent\, Financial Independence & City Opportunities \nAll Day – Fintech & Corporate Pitches (Pitch Stage\, central area) \n14:30 and 17:30 – Winners of Labubu Competition (LHoFT Booth) \n15:00 – Keynote | Munich Business School (5th floor – Design Room)\n15:00 – Keynote | Vlerick Business School (4th floor – IFEN Room)\n16:00 – Keynote | Mannheim Business School (4th floor – IFEN Room)\n16:00 – Keynote | EBS Business School (5th floor – Design Room)\n16:00 – VIP Tour (Partners and Study Directors)\n18:30 – Fair Closing \n\n\nGet Ready for Fintech Recruits 2025\nABOUT THE EVENTGET YOUR TICKET
URL:https://lhoft.com/event/fintech-recruits-4th-edition/
CATEGORIES:In-person event
ATTACH;FMTTYPE=image/png:https://lhoft.com/wp-content/uploads/2025/10/Banners-1920-×-1080-px.png
END:VEVENT
BEGIN:VEVENT
DTSTART;TZID=Europe/Luxembourg:20251212T173000
DTEND;TZID=Europe/Luxembourg:20251212T223000
DTSTAMP:20260424T143525
CREATED:20251127T101802Z
LAST-MODIFIED:20251202T124636Z
UID:40813-1765560600-1765578600@lhoft.com
SUMMARY:Fintech Friday - Christmas Edition
DESCRIPTION:Fintech Friday: Christmas Edition\nThis the season to celebrate the achievements and innovations of the year in style! We’re thrilled to extend our warmest invitation to you for the Fintech Friday – Xmas Celebration\, an event that promises an evening filled with festive cheer\, insightful conversations\, and a touch of fun with our Ugly Jumper Contest. \nJoin us for a delightful evening as we commemorate the successes of the year in the realm of financial technology. \nThis special celebration offers an excellent opportunity to network with industry peers\, share insights\, and revel in the spirit of the holiday season. \nUgly Jumper Contest: Show off your tackiest holiday sweater and compete for the title of the most creatively mismatched outfit. \nWe look forward to your presence at the Fintech Friday – Xmas Celebration as we toast to the achievements and collaborations that have shaped the fintech landscape this year\, and indulge in some festive fashion fun! \nGET YOUR TICKET
URL:https://lhoft.com/event/fintech-friday-christmas-edition/
LOCATION:LHoFT\, Luxembourg\, LHoFT\, Luxembourg\, Luxembourg\, Luxembourg
CATEGORIES:In-person event
ATTACH;FMTTYPE=image/jpeg:https://lhoft.com/wp-content/uploads/2025/11/Fintech-Friday-June.jpg
END:VEVENT
END:VCALENDAR