BEGIN:VCALENDAR
VERSION:2.0
PRODID:-//LHoFT - ECPv6.15.17//NONSGML v1.0//EN
CALSCALE:GREGORIAN
METHOD:PUBLISH
X-ORIGINAL-URL:https://lhoft.com
X-WR-CALDESC:Events for LHoFT
REFRESH-INTERVAL;VALUE=DURATION:PT1H
X-Robots-Tag:noindex
X-PUBLISHED-TTL:PT1H
BEGIN:VTIMEZONE
TZID:Europe/Luxembourg
BEGIN:DAYLIGHT
TZOFFSETFROM:+0100
TZOFFSETTO:+0200
TZNAME:CEST
DTSTART:20200329T010000
END:DAYLIGHT
BEGIN:STANDARD
TZOFFSETFROM:+0200
TZOFFSETTO:+0100
TZNAME:CET
DTSTART:20201025T010000
END:STANDARD
BEGIN:DAYLIGHT
TZOFFSETFROM:+0100
TZOFFSETTO:+0200
TZNAME:CEST
DTSTART:20210328T010000
END:DAYLIGHT
BEGIN:STANDARD
TZOFFSETFROM:+0200
TZOFFSETTO:+0100
TZNAME:CET
DTSTART:20211031T010000
END:STANDARD
BEGIN:DAYLIGHT
TZOFFSETFROM:+0100
TZOFFSETTO:+0200
TZNAME:CEST
DTSTART:20220327T010000
END:DAYLIGHT
BEGIN:STANDARD
TZOFFSETFROM:+0200
TZOFFSETTO:+0100
TZNAME:CET
DTSTART:20221030T010000
END:STANDARD
END:VTIMEZONE
BEGIN:VEVENT
DTSTART;TZID=Europe/Luxembourg:20211124T113000
DTEND;TZID=Europe/Luxembourg:20211124T130000
DTSTAMP:20260424T111100
CREATED:20211119T092758Z
LAST-MODIFIED:20211119T092758Z
UID:21161-1637753400-1637758800@lhoft.com
SUMMARY:HoST's Lunch & Learn\, featuring Yannick Oswald
DESCRIPTION:Raising capital is always hard and time-consuming. How will your startup stand out from the crowd ?\n\n\n\n\n\n\n\nYannick Oswald\, VC at Mangrove Capital shares insights on what VC’s are looking for to invest. \nLine up to know it all and be the next successful founder. \nOn the program : 45 min talk followed by networking lunch. \nTo ensure safety all participants\, this is a CovidCheck event. \nThe Lunch & Learn sessions provide you with an opportunity to exchange with experts and network with the Luxembourg startup ecosystem. \nParticipants in our events are informed that they may appear in photographs taken during the event. These are intended for publication in the written or digital media published by the House of Startups. \nThe Lunch & Learn at the HoST is an initiative of the House of Startups Luxembourg which is part of Groupe Chambre de Commerce du Luxembourg. \n\nRegister here ! \n\n 
URL:https://lhoft.com/event/hosts-lunch-learn-featuring-yannick-oswald/
LOCATION:Luxembourg
CATEGORIES:In-person event
ATTACH;FMTTYPE=:
END:VEVENT
BEGIN:VEVENT
DTSTART;TZID=Europe/Luxembourg:20211124T113000
DTEND;TZID=Europe/Luxembourg:20211124T130000
DTSTAMP:20260424T111100
CREATED:20211119T092758Z
LAST-MODIFIED:20211119T092758Z
UID:34893-1637753400-1637758800@lhoft.com
SUMMARY:HoST's Lunch & Learn\, featuring Yannick Oswald
DESCRIPTION:Raising capital is always hard and time-consuming. How will your startup stand out from the crowd ?\n\n\n\n\n\n\n\nYannick Oswald\, VC at Mangrove Capital shares insights on what VC’s are looking for to invest. \nLine up to know it all and be the next successful founder. \nOn the program : 45 min talk followed by networking lunch. \nTo ensure safety all participants\, this is a CovidCheck event. \nThe Lunch & Learn sessions provide you with an opportunity to exchange with experts and network with the Luxembourg startup ecosystem. \nParticipants in our events are informed that they may appear in photographs taken during the event. These are intended for publication in the written or digital media published by the House of Startups. \nThe Lunch & Learn at the HoST is an initiative of the House of Startups Luxembourg which is part of Groupe Chambre de Commerce du Luxembourg. \n\nRegister here ! \n\n 
URL:https://lhoft.com/event/hosts-lunch-learn-featuring-yannick-oswald-2/
LOCATION:Luxembourg
CATEGORIES:In-person event
ATTACH;FMTTYPE=:
END:VEVENT
END:VCALENDAR