BEGIN:VCALENDAR
VERSION:2.0
PRODID:-//LHoFT - ECPv6.15.17//NONSGML v1.0//EN
CALSCALE:GREGORIAN
METHOD:PUBLISH
X-ORIGINAL-URL:https://lhoft.com
X-WR-CALDESC:Events for LHoFT
REFRESH-INTERVAL;VALUE=DURATION:PT1H
X-Robots-Tag:noindex
X-PUBLISHED-TTL:PT1H
BEGIN:VTIMEZONE
TZID:UTC
BEGIN:STANDARD
TZOFFSETFROM:+0000
TZOFFSETTO:+0000
TZNAME:UTC
DTSTART:20180101T000000
END:STANDARD
END:VTIMEZONE
BEGIN:VTIMEZONE
TZID:Europe/Luxembourg
BEGIN:DAYLIGHT
TZOFFSETFROM:+0100
TZOFFSETTO:+0200
TZNAME:CEST
DTSTART:20200329T010000
END:DAYLIGHT
BEGIN:STANDARD
TZOFFSETFROM:+0200
TZOFFSETTO:+0100
TZNAME:CET
DTSTART:20201025T010000
END:STANDARD
BEGIN:DAYLIGHT
TZOFFSETFROM:+0100
TZOFFSETTO:+0200
TZNAME:CEST
DTSTART:20210328T010000
END:DAYLIGHT
BEGIN:STANDARD
TZOFFSETFROM:+0200
TZOFFSETTO:+0100
TZNAME:CET
DTSTART:20211031T010000
END:STANDARD
BEGIN:DAYLIGHT
TZOFFSETFROM:+0100
TZOFFSETTO:+0200
TZNAME:CEST
DTSTART:20220327T010000
END:DAYLIGHT
BEGIN:STANDARD
TZOFFSETFROM:+0200
TZOFFSETTO:+0100
TZNAME:CET
DTSTART:20221030T010000
END:STANDARD
END:VTIMEZONE
BEGIN:VEVENT
DTSTART;TZID=UTC:20210209T170000
DTEND;TZID=UTC:20210209T175000
DTSTAMP:20260424T125605
CREATED:20201109T041534Z
LAST-MODIFIED:20201109T041534Z
UID:34745-1612890000-1612893000@lhoft.com
SUMMARY:9th Annual Cross-Border Distribution Conference
DESCRIPTION:Description\n17:00 – 17:50 Panel Discussion: Where does the digitalisation of asset management go from here?\n·       The expansion of data warehousing in Luxemburg and opportunities for the asset management industry \n·       How are asset managers evolving in terms of AI and digital to meet the motivations of millennial investors? \n·       Has Covid-19 driven greater and permanent adoption of digital technology in the asset management industry? \n·       What reforms are required for digital distribution\, to make this acceleration sustainable and feasible in the future? \n·       What are the next steps for digitalisation in the industry and what do you see being the biggest challenges? \n  \nCharles Chang\, Professor of Finance\, Fanhai International School of Finance\, Fudan University \nSharmil Patwa\, Founder\, Opus Una \nNasir Zubairi\, CEO of the LHoFT \n  \nOther Confirmed speakers so far include:\n  \nEric Bruce\, Client Director APAC & China\, Aberdeen Standard Investments \nStewart Aldcroft\, Senior Advisor & MD\, Citi Markets & Securities Services \nDavid Roberts\, Head of Global Fixed Income\, Liontrust \nChris Chancellor\, Senior Director\, Global Insights\, Broadridge Analytics Solutions Ltd \nCharlotte Thorne\, Partner\, Capital Generation Partners \nJessica Ground\, Global Head of ESG\, Capital Group \nCharles Chang\, Professor of Finance\, Fanhai International School of Finance\, Fudan University \nYlva Baeckstrom\, Lecturer in Finance\, King’s College London \nDavid Blumer\, Senior Advisor and Chairman of Switzerland\, BlackRock \nJakob Stott\, Group CEO\, Quintet Private Bank \n  \nStay tuned for more information on the agenda and speakers !
URL:https://lhoft.com/event/9th-annual-cross-border-distribution-conference-2/
CATEGORIES:Conference
ATTACH;FMTTYPE=:
END:VEVENT
BEGIN:VEVENT
DTSTART;TZID=UTC:20210209T170000
DTEND;TZID=UTC:20210209T175000
DTSTAMP:20260424T125605
CREATED:20201109T041534Z
LAST-MODIFIED:20201109T041534Z
UID:21034-1612890000-1612893000@lhoft.com
SUMMARY:9th Annual Cross-Border Distribution Conference
DESCRIPTION:Description\n17:00 – 17:50 Panel Discussion: Where does the digitalisation of asset management go from here?\n·       The expansion of data warehousing in Luxemburg and opportunities for the asset management industry \n·       How are asset managers evolving in terms of AI and digital to meet the motivations of millennial investors? \n·       Has Covid-19 driven greater and permanent adoption of digital technology in the asset management industry? \n·       What reforms are required for digital distribution\, to make this acceleration sustainable and feasible in the future? \n·       What are the next steps for digitalisation in the industry and what do you see being the biggest challenges? \n  \nCharles Chang\, Professor of Finance\, Fanhai International School of Finance\, Fudan University \nSharmil Patwa\, Founder\, Opus Una \nNasir Zubairi\, CEO of the LHoFT \n  \nOther Confirmed speakers so far include:\n  \nEric Bruce\, Client Director APAC & China\, Aberdeen Standard Investments \nStewart Aldcroft\, Senior Advisor & MD\, Citi Markets & Securities Services \nDavid Roberts\, Head of Global Fixed Income\, Liontrust \nChris Chancellor\, Senior Director\, Global Insights\, Broadridge Analytics Solutions Ltd \nCharlotte Thorne\, Partner\, Capital Generation Partners \nJessica Ground\, Global Head of ESG\, Capital Group \nCharles Chang\, Professor of Finance\, Fanhai International School of Finance\, Fudan University \nYlva Baeckstrom\, Lecturer in Finance\, King’s College London \nDavid Blumer\, Senior Advisor and Chairman of Switzerland\, BlackRock \nJakob Stott\, Group CEO\, Quintet Private Bank \n  \nStay tuned for more information on the agenda and speakers !
URL:https://lhoft.com/event/9th-annual-cross-border-distribution-conference/
CATEGORIES:Conference
ATTACH;FMTTYPE=:
END:VEVENT
BEGIN:VEVENT
DTSTART;TZID=Europe/Luxembourg:20210203T133000
DTEND;TZID=Europe/Luxembourg:20210203T143000
DTSTAMP:20260424T125605
CREATED:20210113T144829Z
LAST-MODIFIED:20210113T144829Z
UID:34761-1612359000-1612362600@lhoft.com
SUMMARY:Transfer fund shares seamlessly with blockchain
DESCRIPTION:Use new technology and prepare for the digital future of fund management\nLearn how to easily transfer fund shares in a compliant way. Master the processes\, reduce the costs involved and discover the impact for traditional players. Join the webinar led by Mathieu Cottin\, Director of Business Development at Euronext-backed Tokeny Solutions. \nObjectives :\n1. Master the compliant transfer of funds shares on the Blockchain \n2. Evaluate the impact of the technology adoption for traditional players \nPROGRAMME\n13:30 START OF THE WEBINAR \n14:15 Q&A WITH THE AUDIENCE \nIMPORTANT\nThis event is strictly reserved for Paperjam Club members and will be subject to verification.
URL:https://lhoft.com/event/transfer-fund-shares-seamlessly-with-blockchain-2/
CATEGORIES:Conference
ATTACH;FMTTYPE=:
END:VEVENT
BEGIN:VEVENT
DTSTART;TZID=Europe/Luxembourg:20210203T133000
DTEND;TZID=Europe/Luxembourg:20210203T143000
DTSTAMP:20260424T125605
CREATED:20210113T144829Z
LAST-MODIFIED:20210113T144829Z
UID:21042-1612359000-1612362600@lhoft.com
SUMMARY:Transfer fund shares seamlessly with blockchain
DESCRIPTION:Use new technology and prepare for the digital future of fund management\nLearn how to easily transfer fund shares in a compliant way. Master the processes\, reduce the costs involved and discover the impact for traditional players. Join the webinar led by Mathieu Cottin\, Director of Business Development at Euronext-backed Tokeny Solutions. \nObjectives :\n1. Master the compliant transfer of funds shares on the Blockchain \n2. Evaluate the impact of the technology adoption for traditional players \nPROGRAMME\n13:30 START OF THE WEBINAR \n14:15 Q&A WITH THE AUDIENCE \nIMPORTANT\nThis event is strictly reserved for Paperjam Club members and will be subject to verification.
URL:https://lhoft.com/event/transfer-fund-shares-seamlessly-with-blockchain/
CATEGORIES:Conference
ATTACH;FMTTYPE=:
END:VEVENT
BEGIN:VEVENT
DTSTART;VALUE=DATE:20201207
DTEND;VALUE=DATE:20201212
DTSTAMP:20260424T125605
CREATED:20191207T035028Z
LAST-MODIFIED:20191207T035028Z
UID:34645-1607299200-1607731199@lhoft.com
SUMMARY:Singapore Fintech Festival 2020
DESCRIPTION:Description\nSingapore FinTech Festival is the world’s largest Fintech Festival and global platform for the Fintech community\, comprising Fintech players\, technopreneurs\, policy makers\, financial industry leaders\, investors including private equity players and venture capitalits\, and academics. \nThe multi-format conference and exhibition will showcase latest technologies and trends. \nWhy attend?\n\nExplore a new market\nMeet investors\, clients\, partners and others players in the ecosystem to kickstart operations\n\nAbout Southeast Asia’s FinTech Sector\n\nAmong highest population growth in the world. (e.g.\, Indonesia will = US By 2035\, young consumers)\nSoutheast Asia’s fintech sector is among the fastest-growing in the world\, with expected market growth to reach between $70 billion and $100 billion by 2020.\nSoutheast Asia is particularly primed for the rise of payment technologies\, as three-quarters of the adult population remains unbanked.\nASEAN (Association of Southeast Asian Nations) customers rank among the most willing to use fintech products\, with 82% open to the idea in comparison to 77% in North America and 76% in Europe.\nSingapore is at the forefront of the digital payment market\, as it has long been a leader in smart cities\, hyper-connectivity\, and all things tech.\n\nTo know more ask the LHoFT Team or check the Singapore Fintech Festival website 
URL:https://lhoft.com/event/singapore-fintech-festival-2020-2/
CATEGORIES:Conference
END:VEVENT
BEGIN:VEVENT
DTSTART;VALUE=DATE:20201207
DTEND;VALUE=DATE:20201212
DTSTAMP:20260424T125605
CREATED:20191207T035028Z
LAST-MODIFIED:20191207T035028Z
UID:20928-1607299200-1607731199@lhoft.com
SUMMARY:Singapore Fintech Festival 2020
DESCRIPTION:Description\nSingapore FinTech Festival is the world’s largest Fintech Festival and global platform for the Fintech community\, comprising Fintech players\, technopreneurs\, policy makers\, financial industry leaders\, investors including private equity players and venture capitalits\, and academics. \nThe multi-format conference and exhibition will showcase latest technologies and trends. \nWhy attend?\n\nExplore a new market\nMeet investors\, clients\, partners and others players in the ecosystem to kickstart operations\n\nAbout Southeast Asia’s FinTech Sector\n\nAmong highest population growth in the world. (e.g.\, Indonesia will = US By 2035\, young consumers)\nSoutheast Asia’s fintech sector is among the fastest-growing in the world\, with expected market growth to reach between $70 billion and $100 billion by 2020.\nSoutheast Asia is particularly primed for the rise of payment technologies\, as three-quarters of the adult population remains unbanked.\nASEAN (Association of Southeast Asian Nations) customers rank among the most willing to use fintech products\, with 82% open to the idea in comparison to 77% in North America and 76% in Europe.\nSingapore is at the forefront of the digital payment market\, as it has long been a leader in smart cities\, hyper-connectivity\, and all things tech.\n\nTo know more ask the LHoFT Team or check the Singapore Fintech Festival website 
URL:https://lhoft.com/event/singapore-fintech-festival-2020/
CATEGORIES:Conference
END:VEVENT
BEGIN:VEVENT
DTSTART;VALUE=DATE:20201202
DTEND;VALUE=DATE:20201205
DTSTAMP:20260424T125605
CREATED:20191202T034215Z
LAST-MODIFIED:20191202T034215Z
UID:34644-1606867200-1607126399@lhoft.com
SUMMARY:WebSummit 2020
DESCRIPTION:Description\n“The best technology conference on the planet” — Web Summit brings Fortune 500 companies\, groundbreaking startups and world-class speakers to Lisbon. \nWhat is the WebSummit? \nWe’re a company from Dublin\, Ireland that holds events across the world: Web Summit in Lisbon\, Collision in Toronto and RISE in Hong Kong. \nAt a time of great uncertainty for many industries and indeed\, the world itself\, we gather the founders and CEOs of technology companies\, fast-growing startups\, policymakers and heads of state to ask a simple question: where to next? \nFor more info ask the LHoFT Team or check out the link HERE 
URL:https://lhoft.com/event/websummit-2020-2/
CATEGORIES:Conference
ATTACH;FMTTYPE=:
END:VEVENT
BEGIN:VEVENT
DTSTART;VALUE=DATE:20201202
DTEND;VALUE=DATE:20201205
DTSTAMP:20260424T125605
CREATED:20191202T034215Z
LAST-MODIFIED:20191202T034215Z
UID:20927-1606867200-1607126399@lhoft.com
SUMMARY:WebSummit 2020
DESCRIPTION:Description\n“The best technology conference on the planet” — Web Summit brings Fortune 500 companies\, groundbreaking startups and world-class speakers to Lisbon. \nWhat is the WebSummit? \nWe’re a company from Dublin\, Ireland that holds events across the world: Web Summit in Lisbon\, Collision in Toronto and RISE in Hong Kong. \nAt a time of great uncertainty for many industries and indeed\, the world itself\, we gather the founders and CEOs of technology companies\, fast-growing startups\, policymakers and heads of state to ask a simple question: where to next? \nFor more info ask the LHoFT Team or check out the link HERE 
URL:https://lhoft.com/event/websummit-2020/
CATEGORIES:Conference
ATTACH;FMTTYPE=:
END:VEVENT
BEGIN:VEVENT
DTSTART;TZID=UTC:20200915T080000
DTEND;TZID=UTC:20200916T170000
DTSTAMP:20260424T125605
CREATED:20200824T122225Z
LAST-MODIFIED:20200824T122225Z
UID:34706-1600156800-1600275600@lhoft.com
SUMMARY:ICT Spring Europe 2020
DESCRIPTION:ICT Spring Europe 20/20 – The place where Digital\, Tech & Science converge\nOrganizers have taken up the challenge to design an online experience offering a unique opportunity for visitors\, exhibitors and sponsors to boost their business in these uncertain times. \nICT Spring remains the place to foster innovation and leverage international contacts. Take part in an unprecedented experience combining live conferences\, virtual exhibitions\, remote networking and targeted side events. \nLHoFT is pround to sponsor this year ICT Special Edition \nAsk for your free entry ticket to the LHoFT Team \nVIRTUAL EXHIBITION \nWalk Down the aisles of this first online edition and enjoy privileged interactions with exhibitors\nby sharing their latest news\, videos. Exchange views with representatives and meet in one place all the main players of your industry. \nLIVESTREAMING \nEnjoy a 2-day conference broadcasted online to follow the presentations of international guest speakers\, all committed to inspiring the public on the major trends in their respective sectors. \nSIDE EVENTS \nDiscover the first line-up of partners and side’s events in the frame of the digital week by ICT Spring. \nNETWORKING \nMeet with the professionals of your industry randomly by using a brand new tool developed by\nthe organisers. It connects people internationally and is launched during ICT Spring. Check out the agenda imagined for the occasion! \nWEBINARS \nAttend insightful presentations during the 2-day event. Seize this opportunity to advance industry knowledge with experts.
URL:https://lhoft.com/event/ict-spring-europe-2020-3/
CATEGORIES:Conference
ATTACH;FMTTYPE=:
END:VEVENT
BEGIN:VEVENT
DTSTART;TZID=UTC:20200915T080000
DTEND;TZID=UTC:20200916T170000
DTSTAMP:20260424T125605
CREATED:20200824T122225Z
LAST-MODIFIED:20200824T122225Z
UID:20988-1600156800-1600275600@lhoft.com
SUMMARY:ICT Spring Europe 2020
DESCRIPTION:ICT Spring Europe 20/20 – The place where Digital\, Tech & Science converge\nOrganizers have taken up the challenge to design an online experience offering a unique opportunity for visitors\, exhibitors and sponsors to boost their business in these uncertain times. \nICT Spring remains the place to foster innovation and leverage international contacts. Take part in an unprecedented experience combining live conferences\, virtual exhibitions\, remote networking and targeted side events. \nLHoFT is pround to sponsor this year ICT Special Edition \nAsk for your free entry ticket to the LHoFT Team \nVIRTUAL EXHIBITION \nWalk Down the aisles of this first online edition and enjoy privileged interactions with exhibitors\nby sharing their latest news\, videos. Exchange views with representatives and meet in one place all the main players of your industry. \nLIVESTREAMING \nEnjoy a 2-day conference broadcasted online to follow the presentations of international guest speakers\, all committed to inspiring the public on the major trends in their respective sectors. \nSIDE EVENTS \nDiscover the first line-up of partners and side’s events in the frame of the digital week by ICT Spring. \nNETWORKING \nMeet with the professionals of your industry randomly by using a brand new tool developed by\nthe organisers. It connects people internationally and is launched during ICT Spring. Check out the agenda imagined for the occasion! \nWEBINARS \nAttend insightful presentations during the 2-day event. Seize this opportunity to advance industry knowledge with experts.
URL:https://lhoft.com/event/ict-spring-europe-2020/
CATEGORIES:Conference
ATTACH;FMTTYPE=:
END:VEVENT
BEGIN:VEVENT
DTSTART;TZID=UTC:20190214T083000
DTEND;TZID=UTC:20190214T120000
DTSTAMP:20260424T125605
CREATED:20190214T065659Z
LAST-MODIFIED:20190214T065659Z
UID:34501-1550133000-1550145600@lhoft.com
SUMMARY:Petit-Déjeuner - Wellbeing & Performance - HR One
DESCRIPTION:Description\nLes petits-déjeuners HR One sont l’occasion pour les professionnels des ressources humaines de se retrouver le temps d’une matinée pour débattre des enjeux actuels du secteur. DRH et experts locaux interviennent de 9h00 à 11h00 autour d’un petit-déjeuner pour partager leurs expériences et bonnes pratiques appliquées au sein de leur société. \nInscriptions ci-après  \nPROGRAMME – 14/02/2019 \n\n8:30: Ouverture des portes\n9:00 : Mot d’ouverture\n9:05 : Keynote I\, Emilie Allaert\, Head of Operations and Projects\, The LHoFT\n09:25: Keynote II\, Fanny Taburel\, Founder\, The Emotional Intelligence Academy\n09:45: Keynote III\, Fabrice Croiseaux\, CEO\, InTech S.A.\n10:00: Pause\n10:15: Keynote IV\n10:35: Startup Insights (3 x 5 minutes)\n10:55: Ecosystem brainstorming & conclusion
URL:https://lhoft.com/event/petit-dejeuner-wellbeing-performance-hr-one-2/
CATEGORIES:Conference
ATTACH;FMTTYPE=:
END:VEVENT
BEGIN:VEVENT
DTSTART;TZID=UTC:20190214T083000
DTEND;TZID=UTC:20190214T120000
DTSTAMP:20260424T125605
CREATED:20190214T065659Z
LAST-MODIFIED:20190214T065659Z
UID:20779-1550133000-1550145600@lhoft.com
SUMMARY:Petit-Déjeuner - Wellbeing & Performance - HR One
DESCRIPTION:Description\nLes petits-déjeuners HR One sont l’occasion pour les professionnels des ressources humaines de se retrouver le temps d’une matinée pour débattre des enjeux actuels du secteur. DRH et experts locaux interviennent de 9h00 à 11h00 autour d’un petit-déjeuner pour partager leurs expériences et bonnes pratiques appliquées au sein de leur société. \nInscriptions ci-après  \nPROGRAMME – 14/02/2019 \n\n8:30: Ouverture des portes\n9:00 : Mot d’ouverture\n9:05 : Keynote I\, Emilie Allaert\, Head of Operations and Projects\, The LHoFT\n09:25: Keynote II\, Fanny Taburel\, Founder\, The Emotional Intelligence Academy\n09:45: Keynote III\, Fabrice Croiseaux\, CEO\, InTech S.A.\n10:00: Pause\n10:15: Keynote IV\n10:35: Startup Insights (3 x 5 minutes)\n10:55: Ecosystem brainstorming & conclusion
URL:https://lhoft.com/event/petit-dejeuner-wellbeing-performance-hr-one/
CATEGORIES:Conference
ATTACH;FMTTYPE=:
END:VEVENT
END:VCALENDAR