BEGIN:VCALENDAR
VERSION:2.0
PRODID:-//LHoFT - ECPv6.15.17//NONSGML v1.0//EN
CALSCALE:GREGORIAN
METHOD:PUBLISH
X-WR-CALNAME:LHoFT
X-ORIGINAL-URL:https://lhoft.com
X-WR-CALDESC:Events for LHoFT
REFRESH-INTERVAL;VALUE=DURATION:PT1H
X-Robots-Tag:noindex
X-PUBLISHED-TTL:PT1H
BEGIN:VTIMEZONE
TZID:UTC
BEGIN:STANDARD
TZOFFSETFROM:+0000
TZOFFSETTO:+0000
TZNAME:UTC
DTSTART:20220101T000000
END:STANDARD
END:VTIMEZONE
BEGIN:VEVENT
DTSTART;TZID=UTC:20231123T140000
DTEND;TZID=UTC:20231123T183000
DTSTAMP:20260421T214125
CREATED:20231106T095847Z
LAST-MODIFIED:20231106T095847Z
UID:28086-1700748000-1700764200@lhoft.com
SUMMARY:ACA Insurance Day 2023
DESCRIPTION:ACA Insurance Day 2023 : le rendez-vous incontournable de l’assurance \n\n\n\nDepuis 2013\, l’ACA Insurance Days est « le rendez-vous incontournable de l’assurance au Luxembourg ». Au fil des années\, le public s’est agrandi et nous sommes désormais ravis d’accueillir plus de 1000 professionnels du secteur financier pour échanger sur des sujets aussi brûlants que variés permettant de valoriser l’expertise des (ré)assureurs. \nCes 4 dernières années nous ont permis de redessiner l’évènement pour élargir l’audience grâce à notre partie conférence en ligne. \n\n\nProgramme :\n\n14:00 – 14:30 : Accueil des participants \n14:30 – 15:30 : Comment les nouvelles technologies transforment le secteur ? \n15:30 – 16:15 : Networking \n16:15 – 16:45 : La voix du consommateur : un moteur de changement dans la distribution d’assurance \n16:45 – 17:30 : Networking \n\n  \n\nPlus de détails sur cet événement à ne pas manquer dans le lien ci-dessous!\n\n 
URL:https://lhoft.com/event/aca-insurance-day-2023/
CATEGORIES:Conference
ATTACH;FMTTYPE=image/jpeg:https://lhoft.com/wp-content/uploads/2023/11/2018-4-1024x683-1.jpg
END:VEVENT
BEGIN:VEVENT
DTSTART;TZID=UTC:20231123T140000
DTEND;TZID=UTC:20231123T183000
DTSTAMP:20260421T214125
CREATED:20231106T095847Z
LAST-MODIFIED:20231106T095847Z
UID:34937-1700748000-1700764200@lhoft.com
SUMMARY:ACA Insurance Day 2023
DESCRIPTION:ACA Insurance Day 2023 : le rendez-vous incontournable de l’assurance \n\n\n\nDepuis 2013\, l’ACA Insurance Days est « le rendez-vous incontournable de l’assurance au Luxembourg ». Au fil des années\, le public s’est agrandi et nous sommes désormais ravis d’accueillir plus de 1000 professionnels du secteur financier pour échanger sur des sujets aussi brûlants que variés permettant de valoriser l’expertise des (ré)assureurs. \nCes 4 dernières années nous ont permis de redessiner l’évènement pour élargir l’audience grâce à notre partie conférence en ligne. \n\n\nProgramme :\n\n14:00 – 14:30 : Accueil des participants \n14:30 – 15:30 : Comment les nouvelles technologies transforment le secteur ? \n15:30 – 16:15 : Networking \n16:15 – 16:45 : La voix du consommateur : un moteur de changement dans la distribution d’assurance \n16:45 – 17:30 : Networking \n\n  \n\nPlus de détails sur cet événement à ne pas manquer dans le lien ci-dessous!\n\n 
URL:https://lhoft.com/event/aca-insurance-day-2023-2/
CATEGORIES:Conference
ATTACH;FMTTYPE=image/jpeg:https://lhoft.com/wp-content/uploads/2023/11/2018-4-1024x683-1.jpg
END:VEVENT
BEGIN:VEVENT
DTSTART;TZID=UTC:20240917T080000
DTEND;TZID=UTC:20240917T170000
DTSTAMP:20260421T214125
CREATED:20240726T123206Z
LAST-MODIFIED:20240726T123206Z
UID:30371-1726560000-1726592400@lhoft.com
SUMMARY:LHoFT at AI for Finance
DESCRIPTION:📍Paris\, France | The Luxembourg House of Financial Technology (LHoFT) is excited to announce its participation in the upcoming 6th Edition of the AI For Finance Summit. This year’s summit\, themed around Generative AI\, will take place on September 17th. The event promises to be a hub of innovation and insight\, bringing together industry leaders\, experts\, and enthusiasts to explore the latest advancements and applications of artificial intelligence in the financial sector. \n  \n LEARN MORE
URL:https://lhoft.com/event/lhoft-at-ai-for-finance/
CATEGORIES:Conference,event
ATTACH;FMTTYPE=image/png:https://lhoft.com/wp-content/uploads/2024/07/202409-AI-for-Finance.png
END:VEVENT
BEGIN:VEVENT
DTSTART;TZID=UTC:20240917T080000
DTEND;TZID=UTC:20240917T170000
DTSTAMP:20260421T214125
CREATED:20240726T123206Z
LAST-MODIFIED:20240726T123206Z
UID:34958-1726560000-1726592400@lhoft.com
SUMMARY:LHoFT at AI for Finance
DESCRIPTION:📍Paris\, France | The Luxembourg House of Financial Technology (LHoFT) is excited to announce its participation in the upcoming 6th Edition of the AI For Finance Summit. This year’s summit\, themed around Generative AI\, will take place on September 17th. The event promises to be a hub of innovation and insight\, bringing together industry leaders\, experts\, and enthusiasts to explore the latest advancements and applications of artificial intelligence in the financial sector. \n  \n LEARN MORE
URL:https://lhoft.com/event/lhoft-at-ai-for-finance-2/
CATEGORIES:Conference,event
ATTACH;FMTTYPE=image/png:https://lhoft.com/wp-content/uploads/2024/07/202409-AI-for-Finance.png
END:VEVENT
BEGIN:VEVENT
DTSTART;TZID=UTC:20240924T080000
DTEND;TZID=UTC:20240925T170000
DTSTAMP:20260421T214125
CREATED:20240726T124852Z
LAST-MODIFIED:20240726T124852Z
UID:34959-1727164800-1727283600@lhoft.com
SUMMARY:LHoFT at Nordic Fintech Week 2024
DESCRIPTION:📍 Copenhagen\, Denmark | The LHoFT is delighted to assist in the upcoming edition of the Nordic Fintech Week\, a premier event designed to connect you with some of the most influential founders\, thinkers\, and visionaries shaping the Nordic fintech ecosystem. Discover the latest industry trends and insights that are driving innovation in the region. \n  \n LEARN MORE
URL:https://lhoft.com/event/lhoft-at-nordic-fintech-week-2024/
CATEGORIES:Conference,event
ATTACH;FMTTYPE=image/png:https://lhoft.com/wp-content/uploads/2024/07/202409-Nordic-Fintech-Week.png
END:VEVENT
BEGIN:VEVENT
DTSTART;TZID=UTC:20240924T080000
DTEND;TZID=UTC:20240925T170000
DTSTAMP:20260421T214125
CREATED:20240726T124852Z
LAST-MODIFIED:20240726T124852Z
UID:30386-1727164800-1727283600@lhoft.com
SUMMARY:LHoFT at Nordic Fintech Week 2024
DESCRIPTION:📍 Copenhagen\, Denmark | The LHoFT is delighted to assist in the upcoming edition of the Nordic Fintech Week\, a premier event designed to connect you with some of the most influential founders\, thinkers\, and visionaries shaping the Nordic fintech ecosystem. Discover the latest industry trends and insights that are driving innovation in the region. \n  \n LEARN MORE
URL:https://lhoft.com/event/lhoft-at-nordic-fintech-week-2024-3/
CATEGORIES:Conference,event
ATTACH;FMTTYPE=image/png:https://lhoft.com/wp-content/uploads/2024/07/202409-Nordic-Fintech-Week.png
END:VEVENT
BEGIN:VEVENT
DTSTART;TZID=UTC:20250128T100000
DTEND;TZID=UTC:20250128T180000
DTSTAMP:20260421T214125
CREATED:20250108T103323Z
LAST-MODIFIED:20250108T103323Z
UID:34961-1738058400-1738087200@lhoft.com
SUMMARY:LHoFT at The Banking Scene 2025
DESCRIPTION:📍 Confiserie Namur\, Luxembourg | The LHoFT will be present at the 6th Banking Conference in Luxembourg\, This conference brings together industry leaders\, innovators to discuss transformations within the banking industry driven by technological advancements\, regulatory shifts and more. Our CEO\, Nasir Zubairi will be on a panel for ” The Best Practices in successful transformations to drive metamorphosis in Banking”. Join us there! \n  \nLEARN MORE  \n 
URL:https://lhoft.com/event/lhoft-at-the-banking-scene-2025-2/
CATEGORIES:Conference,event
ATTACH;FMTTYPE=image/png:https://lhoft.com/wp-content/uploads/2025/01/LHoFT-EVENTS-2025-2.png
END:VEVENT
BEGIN:VEVENT
DTSTART;TZID=UTC:20250128T100000
DTEND;TZID=UTC:20250128T180000
DTSTAMP:20260421T214125
CREATED:20250108T103323Z
LAST-MODIFIED:20250108T103323Z
UID:31596-1738058400-1738087200@lhoft.com
SUMMARY:LHoFT at The Banking Scene 2025
DESCRIPTION:📍 Confiserie Namur\, Luxembourg | The LHoFT will be present at the 6th Banking Conference in Luxembourg\, This conference brings together industry leaders\, innovators to discuss transformations within the banking industry driven by technological advancements\, regulatory shifts and more. Our CEO\, Nasir Zubairi will be on a panel for ” The Best Practices in successful transformations to drive metamorphosis in Banking”. Join us there! \n  \nLEARN MORE  \n 
URL:https://lhoft.com/event/lhoft-at-the-banking-scene-2025/
CATEGORIES:Conference,event
ATTACH;FMTTYPE=image/png:https://lhoft.com/wp-content/uploads/2025/01/LHoFT-EVENTS-2025-2.png
END:VEVENT
BEGIN:VEVENT
DTSTART;VALUE=DATE:20250319
DTEND;VALUE=DATE:20250321
DTSTAMP:20260421T214125
CREATED:20250108T105128Z
LAST-MODIFIED:20250221T084133Z
UID:31606-1742342400-1742515199@lhoft.com
SUMMARY:LHoFT at Insurtech Insights 2025
DESCRIPTION:📍 London\, UK | The LHoFT is excited to attend Europes largest Insurtech Conference in March 2025. Well renowned speakers from all over Europe share insights and learn from those top in the Industry. Join us there! \n  \nLEARN MORE
URL:https://lhoft.com/event/lhoft-at-insurtech-insights-2025/
CATEGORIES:Conference,event
ATTACH;FMTTYPE=image/webp:https://lhoft.com/wp-content/uploads/2025/01/LHoFT-EVENTS-2025-4-2048x1152-1.webp
END:VEVENT
BEGIN:VEVENT
DTSTART;VALUE=DATE:20250319
DTEND;VALUE=DATE:20250321
DTSTAMP:20260421T214125
CREATED:20250108T105128Z
LAST-MODIFIED:20250108T105128Z
UID:34962-1742342400-1742515199@lhoft.com
SUMMARY:LHoFT at Insurtech Insights 2025
DESCRIPTION:📍 London\, UK | The LHoFT is excited to attend Europes largest Insurtech Conference in March 2025. Well renowned speakers from all over Europe share insights and learn from those top in the Industry. Join us there! \n  \nLEARN MORE
URL:https://lhoft.com/event/lhoft-at-insurtech-insights-2025-2/
CATEGORIES:Conference,event
ATTACH;FMTTYPE=image/png:https://lhoft.com/wp-content/uploads/2025/01/LHoFT-EVENTS-2025-4.png
END:VEVENT
BEGIN:VEVENT
DTSTART;VALUE=DATE:20250325
DTEND;VALUE=DATE:20250327
DTSTAMP:20260421T214125
CREATED:20250108T105824Z
LAST-MODIFIED:20250221T084014Z
UID:31611-1742860800-1743033599@lhoft.com
SUMMARY:LHoFT at ALFI Global Asset Management Conference
DESCRIPTION:📍 European Convention Center\, Luxembourg | LHoFT will be attending the Annual conferences in Luxembourg and London. ALFI Global asset management conference attracts expert audiences from Europe and overseas swell as Fund professionals  to discuss latest market and regulatory developments with their peers\, and share best practices to lead their businesses to sustainable growth. \n  \n LEARN MORE
URL:https://lhoft.com/event/lhoft-at-alfi-global-asset-management-conference/
CATEGORIES:Conference,event
ATTACH;FMTTYPE=image/webp:https://lhoft.com/wp-content/uploads/2025/02/LHoFT-EVENTS-2025-5-2048x1152-1.webp
END:VEVENT
BEGIN:VEVENT
DTSTART;VALUE=DATE:20250327
DTEND;VALUE=DATE:20250329
DTSTAMP:20260421T214125
CREATED:20250108T110535Z
LAST-MODIFIED:20250220T214252Z
UID:31614-1743033600-1743206399@lhoft.com
SUMMARY:LHoFT at Money Motion 2025
DESCRIPTION:📍 Zagreb\, Croatia | The LHoFT will be in attendance at Money motion in Croatia this March. Premier event dedicated to the future of payments and financial technology. Bringing together industry leaders and innovators\, it explores cutting-edge trends and solutions shaping the payments ecosystem. \n  \n  \n LEARN MORE
URL:https://lhoft.com/event/lhoft-at-money-motion-2025/
CATEGORIES:Conference,event
ATTACH;FMTTYPE=image/webp:https://lhoft.com/wp-content/uploads/2025/01/LHoFT-EVENTS-2025-4-1024x576-1.webp
END:VEVENT
END:VCALENDAR