BEGIN:VCALENDAR
VERSION:2.0
PRODID:-//LHoFT - ECPv6.15.17//NONSGML v1.0//EN
CALSCALE:GREGORIAN
METHOD:PUBLISH
X-ORIGINAL-URL:https://lhoft.com
X-WR-CALDESC:Events for LHoFT
REFRESH-INTERVAL;VALUE=DURATION:PT1H
X-Robots-Tag:noindex
X-PUBLISHED-TTL:PT1H
BEGIN:VTIMEZONE
TZID:Europe/Luxembourg
BEGIN:DAYLIGHT
TZOFFSETFROM:+0100
TZOFFSETTO:+0200
TZNAME:CEST
DTSTART:20200329T010000
END:DAYLIGHT
BEGIN:STANDARD
TZOFFSETFROM:+0200
TZOFFSETTO:+0100
TZNAME:CET
DTSTART:20201025T010000
END:STANDARD
BEGIN:DAYLIGHT
TZOFFSETFROM:+0100
TZOFFSETTO:+0200
TZNAME:CEST
DTSTART:20210328T010000
END:DAYLIGHT
BEGIN:STANDARD
TZOFFSETFROM:+0200
TZOFFSETTO:+0100
TZNAME:CET
DTSTART:20211031T010000
END:STANDARD
BEGIN:DAYLIGHT
TZOFFSETFROM:+0100
TZOFFSETTO:+0200
TZNAME:CEST
DTSTART:20220327T010000
END:DAYLIGHT
BEGIN:STANDARD
TZOFFSETFROM:+0200
TZOFFSETTO:+0100
TZNAME:CET
DTSTART:20221030T010000
END:STANDARD
END:VTIMEZONE
BEGIN:VEVENT
DTSTART;TZID=Europe/Luxembourg:20211118T100000
DTEND;TZID=Europe/Luxembourg:20211118T180000
DTSTAMP:20260421T142147
CREATED:20211109T080448Z
LAST-MODIFIED:20211109T080448Z
UID:21156-1637229600-1637258400@lhoft.com
SUMMARY:INFRACHAIN SUMMIT
DESCRIPTION:WHAT IS INFRACHAIN SUMMIT?\n\n\n\n\nInfrachain Summit is a gathering dedicated to blockchain topics where governance meets technology and compliance meets operations. \nThe Summit is about real business – not about the next hype. The event is centered on operational use cases in the world of 3rd party distributed trust.  \nYou will learn how Blockchain can evolve from a technology hype to revenue generating applications.  \nWe will discuss governance and compliance aspects of Blockchain without loosing out of sight the technical implications. Concrete business cases will be presented during the programme for you to adapt best practices in your own company. \n\n\n\nWHY SHOULD I ATTEND?\n\n\n\n\n\n\nFirst major event dedicated to operational blockchain use cases and blockchain governance\nValuable insights and learnings\nNo hype\, but real business\nHigh level expert speakers\nEnlarge your network and meet interesting new people\n\nDISCOVER THE AGENDA\n\nDISCOVER THE SPEAKERS \n\nREGISTER NOW
URL:https://lhoft.com/event/infrachain-summit-3/
CATEGORIES:Conference,Hybrid Event
ATTACH;FMTTYPE=:
END:VEVENT
BEGIN:VEVENT
DTSTART;TZID=Europe/Luxembourg:20211118T100000
DTEND;TZID=Europe/Luxembourg:20211118T180000
DTSTAMP:20260421T142147
CREATED:20211109T080448Z
LAST-MODIFIED:20211109T080448Z
UID:34888-1637229600-1637258400@lhoft.com
SUMMARY:INFRACHAIN SUMMIT
DESCRIPTION:WHAT IS INFRACHAIN SUMMIT?\n\n\n\n\nInfrachain Summit is a gathering dedicated to blockchain topics where governance meets technology and compliance meets operations. \nThe Summit is about real business – not about the next hype. The event is centered on operational use cases in the world of 3rd party distributed trust.  \nYou will learn how Blockchain can evolve from a technology hype to revenue generating applications.  \nWe will discuss governance and compliance aspects of Blockchain without loosing out of sight the technical implications. Concrete business cases will be presented during the programme for you to adapt best practices in your own company. \n\n\n\nWHY SHOULD I ATTEND?\n\n\n\n\n\n\nFirst major event dedicated to operational blockchain use cases and blockchain governance\nValuable insights and learnings\nNo hype\, but real business\nHigh level expert speakers\nEnlarge your network and meet interesting new people\n\nDISCOVER THE AGENDA\n\nDISCOVER THE SPEAKERS \n\nREGISTER NOW
URL:https://lhoft.com/event/infrachain-summit-3-2/
CATEGORIES:Conference,Hybrid Event
ATTACH;FMTTYPE=:
END:VEVENT
END:VCALENDAR