BEGIN:VCALENDAR
VERSION:2.0
PRODID:-//LHoFT - ECPv6.15.17//NONSGML v1.0//EN
CALSCALE:GREGORIAN
METHOD:PUBLISH
X-ORIGINAL-URL:https://lhoft.com
X-WR-CALDESC:Events for LHoFT
REFRESH-INTERVAL;VALUE=DURATION:PT1H
X-Robots-Tag:noindex
X-PUBLISHED-TTL:PT1H
BEGIN:VTIMEZONE
TZID:Europe/Luxembourg
BEGIN:DAYLIGHT
TZOFFSETFROM:+0100
TZOFFSETTO:+0200
TZNAME:CEST
DTSTART:20200329T010000
END:DAYLIGHT
BEGIN:STANDARD
TZOFFSETFROM:+0200
TZOFFSETTO:+0100
TZNAME:CET
DTSTART:20201025T010000
END:STANDARD
BEGIN:DAYLIGHT
TZOFFSETFROM:+0100
TZOFFSETTO:+0200
TZNAME:CEST
DTSTART:20210328T010000
END:DAYLIGHT
BEGIN:STANDARD
TZOFFSETFROM:+0200
TZOFFSETTO:+0100
TZNAME:CET
DTSTART:20211031T010000
END:STANDARD
BEGIN:DAYLIGHT
TZOFFSETFROM:+0100
TZOFFSETTO:+0200
TZNAME:CEST
DTSTART:20220327T010000
END:DAYLIGHT
BEGIN:STANDARD
TZOFFSETFROM:+0200
TZOFFSETTO:+0100
TZNAME:CET
DTSTART:20221030T010000
END:STANDARD
END:VTIMEZONE
BEGIN:VEVENT
DTSTART;VALUE=DATE:20210921
DTEND;VALUE=DATE:20210924
DTSTAMP:20260421T172444
CREATED:20210916T163415Z
LAST-MODIFIED:20210916T163415Z
UID:21132-1632182400-1632441599@lhoft.com
SUMMARY:The LHoFT at Money 2020
DESCRIPTION:The LHoFT is attending Money 2020 Europe. \nWith over 4\,000 people\, (with 1 in 4 Exec Team or Board level)\, from 1\,500+ companies\, get back to business IN REAL LIFE with the who’s who of Payments\, Banking\, Fintech and Financial Services. \nPANEL\nOur CEO\, Nasir Zubairi\, will moderate a panel on Wednesday 22\, 11:40 – 12:20 alongside Nigel Verdon\, CEO of Railsbank and Shachar Bialick\, CEO of Curve dedicated to quite a disruptive topic: “Does your brand need to exist?” \n \nWith the arrival of open finance and de-monopolisation of financial data\, which all result in more and more financial services companies becoming aggregators/connectors/platforms/one-stop-shops\, does company-specific branding matters at all? Do today’s consumer fintech darlings’ brands matter at all in the eyes of the end user if they become just one of 10+ accounts the user aggregates into one card and one app? \nEuropean Social Gathering \nAre you participating in Money20/20 or just happen to be in Amsterdam? Join us on invitation \nFINTECH BELGIUM\, Holland FinTech and The LHoFT – Luxembourg House of Financial Technology are inviting you to a fabulous Fintech #networking night! \n📌 September 21\, 6:00 pm – 9:00 pm \nSend us an email on info@lhoft.lu for registration \n \n 
URL:https://lhoft.com/event/the-lhoft-at-money-2020/
CATEGORIES:Conference
END:VEVENT
BEGIN:VEVENT
DTSTART;VALUE=DATE:20210921
DTEND;VALUE=DATE:20210924
DTSTAMP:20260421T172444
CREATED:20210916T163415Z
LAST-MODIFIED:20210916T163415Z
UID:34867-1632182400-1632441599@lhoft.com
SUMMARY:The LHoFT at Money 2020
DESCRIPTION:The LHoFT is attending Money 2020 Europe. \nWith over 4\,000 people\, (with 1 in 4 Exec Team or Board level)\, from 1\,500+ companies\, get back to business IN REAL LIFE with the who’s who of Payments\, Banking\, Fintech and Financial Services. \nPANEL\nOur CEO\, Nasir Zubairi\, will moderate a panel on Wednesday 22\, 11:40 – 12:20 alongside Nigel Verdon\, CEO of Railsbank and Shachar Bialick\, CEO of Curve dedicated to quite a disruptive topic: “Does your brand need to exist?” \n \nWith the arrival of open finance and de-monopolisation of financial data\, which all result in more and more financial services companies becoming aggregators/connectors/platforms/one-stop-shops\, does company-specific branding matters at all? Do today’s consumer fintech darlings’ brands matter at all in the eyes of the end user if they become just one of 10+ accounts the user aggregates into one card and one app? \nEuropean Social Gathering \nAre you participating in Money20/20 or just happen to be in Amsterdam? Join us on invitation \nFINTECH BELGIUM\, Holland FinTech and The LHoFT – Luxembourg House of Financial Technology are inviting you to a fabulous Fintech #networking night! \n📌 September 21\, 6:00 pm – 9:00 pm \nSend us an email on info@lhoft.lu for registration \n \n 
URL:https://lhoft.com/event/the-lhoft-at-money-2020-2/
CATEGORIES:Conference
END:VEVENT
END:VCALENDAR