BEGIN:VCALENDAR
VERSION:2.0
PRODID:-//LHoFT - ECPv6.15.17//NONSGML v1.0//EN
CALSCALE:GREGORIAN
METHOD:PUBLISH
X-ORIGINAL-URL:https://lhoft.com
X-WR-CALDESC:Events for LHoFT
REFRESH-INTERVAL;VALUE=DURATION:PT1H
X-Robots-Tag:noindex
X-PUBLISHED-TTL:PT1H
BEGIN:VTIMEZONE
TZID:Europe/Luxembourg
BEGIN:DAYLIGHT
TZOFFSETFROM:+0100
TZOFFSETTO:+0200
TZNAME:CEST
DTSTART:20200329T010000
END:DAYLIGHT
BEGIN:STANDARD
TZOFFSETFROM:+0200
TZOFFSETTO:+0100
TZNAME:CET
DTSTART:20201025T010000
END:STANDARD
BEGIN:DAYLIGHT
TZOFFSETFROM:+0100
TZOFFSETTO:+0200
TZNAME:CEST
DTSTART:20210328T010000
END:DAYLIGHT
BEGIN:STANDARD
TZOFFSETFROM:+0200
TZOFFSETTO:+0100
TZNAME:CET
DTSTART:20211031T010000
END:STANDARD
BEGIN:DAYLIGHT
TZOFFSETFROM:+0100
TZOFFSETTO:+0200
TZNAME:CEST
DTSTART:20220327T010000
END:DAYLIGHT
BEGIN:STANDARD
TZOFFSETFROM:+0200
TZOFFSETTO:+0100
TZNAME:CET
DTSTART:20221030T010000
END:STANDARD
END:VTIMEZONE
BEGIN:VEVENT
DTSTART;TZID=Europe/Luxembourg:20210428T094500
DTEND;TZID=Europe/Luxembourg:20210430T170000
DTSTAMP:20260421T231300
CREATED:20210422T134944Z
LAST-MODIFIED:20210422T134944Z
UID:21091-1619603100-1619802000@lhoft.com
SUMMARY:EU-Startups Summit 2021
DESCRIPTION:The EU-Startups Summit is the annual flagship event of EU-Startups.com – the leading online publication about startups in Europe\n\n\n\n\n\nAbout this Event\n\n\nAt this year’s EU-Startups Summit\, which will happen online on April 28-30\, we will showcase a selection of Europe’s hottest startups and come together to learn from some of the most successful European entrepreneurs of our time! \nAt the 2020/2021 edition of the EU-Startups Summit we expect over 1\,500 startup founders\, tech folks\, corporates\, business angels\, media people and investors from all across Europe. The event offers great networking opportunities\, educational talks\, fireside chats and inspiring speakers. \nThe LHoFT Team will attend the event and present you the Catapult #Kickstarter programme: a Fintech Acceleration Program with 50K€ in grants. More info HERE  \nThe EU-Startups Summit will also gather many of Europe’s leading Venture Capital investors\, business angels and accelerators. As a startup\, you can directly engage with them\, and we are proud to have one of the best startup-investor ratios of any startup event out there. Below we’ll list some VC firms who joined us in previous editions of the event: \n  \n\n\n\nMore information regarding the EU-Startups Summit can be found here. \nIn case of any questions\, please feel free to directly reach out to Thomas@EU-Startups.com.
URL:https://lhoft.com/event/eu-startups-summit/
CATEGORIES:Conference
ATTACH;FMTTYPE=:
END:VEVENT
BEGIN:VEVENT
DTSTART;TZID=Europe/Luxembourg:20210428T094500
DTEND;TZID=Europe/Luxembourg:20210430T170000
DTSTAMP:20260421T231300
CREATED:20210422T134944Z
LAST-MODIFIED:20210422T134944Z
UID:34818-1619603100-1619802000@lhoft.com
SUMMARY:EU-Startups Summit 2021
DESCRIPTION:The EU-Startups Summit is the annual flagship event of EU-Startups.com – the leading online publication about startups in Europe\n\n\n\n\n\nAbout this Event\n\n\nAt this year’s EU-Startups Summit\, which will happen online on April 28-30\, we will showcase a selection of Europe’s hottest startups and come together to learn from some of the most successful European entrepreneurs of our time! \nAt the 2020/2021 edition of the EU-Startups Summit we expect over 1\,500 startup founders\, tech folks\, corporates\, business angels\, media people and investors from all across Europe. The event offers great networking opportunities\, educational talks\, fireside chats and inspiring speakers. \nThe LHoFT Team will attend the event and present you the Catapult #Kickstarter programme: a Fintech Acceleration Program with 50K€ in grants. More info HERE  \nThe EU-Startups Summit will also gather many of Europe’s leading Venture Capital investors\, business angels and accelerators. As a startup\, you can directly engage with them\, and we are proud to have one of the best startup-investor ratios of any startup event out there. Below we’ll list some VC firms who joined us in previous editions of the event: \n  \n\n\n\nMore information regarding the EU-Startups Summit can be found here. \nIn case of any questions\, please feel free to directly reach out to Thomas@EU-Startups.com.
URL:https://lhoft.com/event/eu-startups-summit-2/
CATEGORIES:Conference
ATTACH;FMTTYPE=:
END:VEVENT
END:VCALENDAR