BEGIN:VCALENDAR
VERSION:2.0
PRODID:-//LHoFT - ECPv6.15.17//NONSGML v1.0//EN
CALSCALE:GREGORIAN
METHOD:PUBLISH
X-ORIGINAL-URL:https://lhoft.com
X-WR-CALDESC:Events for LHoFT
REFRESH-INTERVAL;VALUE=DURATION:PT1H
X-Robots-Tag:noindex
X-PUBLISHED-TTL:PT1H
BEGIN:VTIMEZONE
TZID:Europe/Luxembourg
BEGIN:DAYLIGHT
TZOFFSETFROM:+0100
TZOFFSETTO:+0200
TZNAME:CEST
DTSTART:20200329T010000
END:DAYLIGHT
BEGIN:STANDARD
TZOFFSETFROM:+0200
TZOFFSETTO:+0100
TZNAME:CET
DTSTART:20201025T010000
END:STANDARD
BEGIN:DAYLIGHT
TZOFFSETFROM:+0100
TZOFFSETTO:+0200
TZNAME:CEST
DTSTART:20210328T010000
END:DAYLIGHT
BEGIN:STANDARD
TZOFFSETFROM:+0200
TZOFFSETTO:+0100
TZNAME:CET
DTSTART:20211031T010000
END:STANDARD
BEGIN:DAYLIGHT
TZOFFSETFROM:+0100
TZOFFSETTO:+0200
TZNAME:CEST
DTSTART:20220327T010000
END:DAYLIGHT
BEGIN:STANDARD
TZOFFSETFROM:+0200
TZOFFSETTO:+0100
TZNAME:CET
DTSTART:20221030T010000
END:STANDARD
END:VTIMEZONE
BEGIN:VEVENT
DTSTART;VALUE=DATE:20210316
DTEND;VALUE=DATE:20210320
DTSTAMP:20260422T020354
CREATED:20210113T144814Z
LAST-MODIFIED:20210113T144814Z
UID:21041-1615852800-1616198399@lhoft.com
SUMMARY:ALFI European Asset Management Conference
DESCRIPTION:Save the Date for the annual meeting of the world’s leading alternative investments community.\nThe ALFI European Asset Management Conference is the annual professional meeting of the European asset management community. Its 2021 edition will run over four days\, from 16 to 19 March 2021\, as a virtual event. \nThe ALFI online event platform allows asset managers and investors to meet with fund selectors\, administrators\, regulators and other investment fund experts to share their insights. \nThey will analyse and debate where the industry stands before the backdrop of the Covid-19 pandemic and Brexit\, and the impact of other geopolitical and macroeconomic factors on the world of the investment fund and its various asset classes. \nTuesday\, 16 March 2021\nAsset management: meeting the needs of all investors \nWednesday\, 17 March 2021\nAsset management: offering access to all asset classes \nThursday\, 18 March 2021\nAsset management: regulators and regulation \nFriday\, 19 March 2021\nAsset management: a focus on strategy \nRegistration and more details coming soon!
URL:https://lhoft.com/event/alfi-european-asset-management-conference-2/
CATEGORIES:Conference
ATTACH;FMTTYPE=:
END:VEVENT
BEGIN:VEVENT
DTSTART;VALUE=DATE:20210316
DTEND;VALUE=DATE:20210320
DTSTAMP:20260422T020354
CREATED:20210113T144814Z
LAST-MODIFIED:20210113T144814Z
UID:34760-1615852800-1616198399@lhoft.com
SUMMARY:ALFI European Asset Management Conference
DESCRIPTION:Save the Date for the annual meeting of the world’s leading alternative investments community.\nThe ALFI European Asset Management Conference is the annual professional meeting of the European asset management community. Its 2021 edition will run over four days\, from 16 to 19 March 2021\, as a virtual event. \nThe ALFI online event platform allows asset managers and investors to meet with fund selectors\, administrators\, regulators and other investment fund experts to share their insights. \nThey will analyse and debate where the industry stands before the backdrop of the Covid-19 pandemic and Brexit\, and the impact of other geopolitical and macroeconomic factors on the world of the investment fund and its various asset classes. \nTuesday\, 16 March 2021\nAsset management: meeting the needs of all investors \nWednesday\, 17 March 2021\nAsset management: offering access to all asset classes \nThursday\, 18 March 2021\nAsset management: regulators and regulation \nFriday\, 19 March 2021\nAsset management: a focus on strategy \nRegistration and more details coming soon!
URL:https://lhoft.com/event/alfi-european-asset-management-conference-2-2/
CATEGORIES:Conference
ATTACH;FMTTYPE=:
END:VEVENT
END:VCALENDAR