BEGIN:VCALENDAR
VERSION:2.0
PRODID:-//LHoFT - ECPv6.15.17//NONSGML v1.0//EN
CALSCALE:GREGORIAN
METHOD:PUBLISH
X-ORIGINAL-URL:https://lhoft.com
X-WR-CALDESC:Events for LHoFT
REFRESH-INTERVAL;VALUE=DURATION:PT1H
X-Robots-Tag:noindex
X-PUBLISHED-TTL:PT1H
BEGIN:VTIMEZONE
TZID:Europe/Luxembourg
BEGIN:DAYLIGHT
TZOFFSETFROM:+0100
TZOFFSETTO:+0200
TZNAME:CEST
DTSTART:20200329T010000
END:DAYLIGHT
BEGIN:STANDARD
TZOFFSETFROM:+0200
TZOFFSETTO:+0100
TZNAME:CET
DTSTART:20201025T010000
END:STANDARD
BEGIN:DAYLIGHT
TZOFFSETFROM:+0100
TZOFFSETTO:+0200
TZNAME:CEST
DTSTART:20210328T010000
END:DAYLIGHT
BEGIN:STANDARD
TZOFFSETFROM:+0200
TZOFFSETTO:+0100
TZNAME:CET
DTSTART:20211031T010000
END:STANDARD
BEGIN:DAYLIGHT
TZOFFSETFROM:+0100
TZOFFSETTO:+0200
TZNAME:CEST
DTSTART:20220327T010000
END:DAYLIGHT
BEGIN:STANDARD
TZOFFSETFROM:+0200
TZOFFSETTO:+0100
TZNAME:CET
DTSTART:20221030T010000
END:STANDARD
END:VTIMEZONE
BEGIN:VEVENT
DTSTART;VALUE=DATE:20210615
DTEND;VALUE=DATE:20210616
DTSTAMP:20260421T200548
CREATED:20210114T215919Z
LAST-MODIFIED:20210114T215919Z
UID:21044-1623715200-1623801599@lhoft.com
SUMMARY:European Risk Management Conference
DESCRIPTION:The 15th edition of the European Risk Management Conference is coming on 15 June 2021 in a virtual format. \nAs per last year\, we are delivering the full programme of this major ALFI event directly to all of you\, live-streamed from Luxembourg. \nThe virtual format will provide anyone with the opportunity to participate\, learn\, and engage as if you were in the room with us. \nHighlights of the programme include: \n\nViews of international policymakers and the CSSF on key policy actions which are relevant to all risk management professionals;\nDebates on the SFDR and the Taxonomy Regulation: a real game changer for risk managers\, who must embed all new requirements in risk management\nPanel discussions on key developments (operational as well as regulatory) of interest to the risk management community.\n\nhttps://events.alfi.lu/european-risk-management-conference-2021/agenda/
URL:https://lhoft.com/event/european-risk-management-conference/
CATEGORIES:Conference
ATTACH;FMTTYPE=:
END:VEVENT
BEGIN:VEVENT
DTSTART;VALUE=DATE:20210615
DTEND;VALUE=DATE:20210616
DTSTAMP:20260421T200548
CREATED:20210114T215919Z
LAST-MODIFIED:20210114T215919Z
UID:34763-1623715200-1623801599@lhoft.com
SUMMARY:European Risk Management Conference
DESCRIPTION:The 15th edition of the European Risk Management Conference is coming on 15 June 2021 in a virtual format. \nAs per last year\, we are delivering the full programme of this major ALFI event directly to all of you\, live-streamed from Luxembourg. \nThe virtual format will provide anyone with the opportunity to participate\, learn\, and engage as if you were in the room with us. \nHighlights of the programme include: \n\nViews of international policymakers and the CSSF on key policy actions which are relevant to all risk management professionals;\nDebates on the SFDR and the Taxonomy Regulation: a real game changer for risk managers\, who must embed all new requirements in risk management\nPanel discussions on key developments (operational as well as regulatory) of interest to the risk management community.\n\nhttps://events.alfi.lu/european-risk-management-conference-2021/agenda/
URL:https://lhoft.com/event/european-risk-management-conference-2/
CATEGORIES:Conference
ATTACH;FMTTYPE=:
END:VEVENT
END:VCALENDAR