BEGIN:VCALENDAR
VERSION:2.0
PRODID:-//LHoFT - ECPv6.15.17//NONSGML v1.0//EN
CALSCALE:GREGORIAN
METHOD:PUBLISH
X-ORIGINAL-URL:https://lhoft.com
X-WR-CALDESC:Events for LHoFT
REFRESH-INTERVAL;VALUE=DURATION:PT1H
X-Robots-Tag:noindex
X-PUBLISHED-TTL:PT1H
BEGIN:VTIMEZONE
TZID:Europe/Luxembourg
BEGIN:DAYLIGHT
TZOFFSETFROM:+0100
TZOFFSETTO:+0200
TZNAME:CEST
DTSTART:20200329T010000
END:DAYLIGHT
BEGIN:STANDARD
TZOFFSETFROM:+0200
TZOFFSETTO:+0100
TZNAME:CET
DTSTART:20201025T010000
END:STANDARD
BEGIN:DAYLIGHT
TZOFFSETFROM:+0100
TZOFFSETTO:+0200
TZNAME:CEST
DTSTART:20210328T010000
END:DAYLIGHT
BEGIN:STANDARD
TZOFFSETFROM:+0200
TZOFFSETTO:+0100
TZNAME:CET
DTSTART:20211031T010000
END:STANDARD
BEGIN:DAYLIGHT
TZOFFSETFROM:+0100
TZOFFSETTO:+0200
TZNAME:CEST
DTSTART:20220327T010000
END:DAYLIGHT
BEGIN:STANDARD
TZOFFSETFROM:+0200
TZOFFSETTO:+0100
TZNAME:CET
DTSTART:20221030T010000
END:STANDARD
END:VTIMEZONE
BEGIN:VTIMEZONE
TZID:UTC
BEGIN:STANDARD
TZOFFSETFROM:+0000
TZOFFSETTO:+0000
TZNAME:UTC
DTSTART:20200101T000000
END:STANDARD
END:VTIMEZONE
BEGIN:VTIMEZONE
TZID:Europe/London
BEGIN:DAYLIGHT
TZOFFSETFROM:+0000
TZOFFSETTO:+0100
TZNAME:BST
DTSTART:20200329T010000
END:DAYLIGHT
BEGIN:STANDARD
TZOFFSETFROM:+0100
TZOFFSETTO:+0000
TZNAME:GMT
DTSTART:20201025T010000
END:STANDARD
BEGIN:DAYLIGHT
TZOFFSETFROM:+0000
TZOFFSETTO:+0100
TZNAME:BST
DTSTART:20210328T010000
END:DAYLIGHT
BEGIN:STANDARD
TZOFFSETFROM:+0100
TZOFFSETTO:+0000
TZNAME:GMT
DTSTART:20211031T010000
END:STANDARD
BEGIN:DAYLIGHT
TZOFFSETFROM:+0000
TZOFFSETTO:+0100
TZNAME:BST
DTSTART:20220327T010000
END:DAYLIGHT
BEGIN:STANDARD
TZOFFSETFROM:+0100
TZOFFSETTO:+0000
TZNAME:GMT
DTSTART:20221030T010000
END:STANDARD
END:VTIMEZONE
BEGIN:VEVENT
DTSTART;TZID=Europe/Luxembourg:20210203T133000
DTEND;TZID=Europe/Luxembourg:20210203T143000
DTSTAMP:20260422T020349
CREATED:20210113T144829Z
LAST-MODIFIED:20210113T144829Z
UID:34761-1612359000-1612362600@lhoft.com
SUMMARY:Transfer fund shares seamlessly with blockchain
DESCRIPTION:Use new technology and prepare for the digital future of fund management\nLearn how to easily transfer fund shares in a compliant way. Master the processes\, reduce the costs involved and discover the impact for traditional players. Join the webinar led by Mathieu Cottin\, Director of Business Development at Euronext-backed Tokeny Solutions. \nObjectives :\n1. Master the compliant transfer of funds shares on the Blockchain \n2. Evaluate the impact of the technology adoption for traditional players \nPROGRAMME\n13:30 START OF THE WEBINAR \n14:15 Q&A WITH THE AUDIENCE \nIMPORTANT\nThis event is strictly reserved for Paperjam Club members and will be subject to verification.
URL:https://lhoft.com/event/transfer-fund-shares-seamlessly-with-blockchain-2/
CATEGORIES:Conference
ATTACH;FMTTYPE=:
END:VEVENT
BEGIN:VEVENT
DTSTART;TZID=Europe/Luxembourg:20210203T133000
DTEND;TZID=Europe/Luxembourg:20210203T143000
DTSTAMP:20260422T020349
CREATED:20210113T144829Z
LAST-MODIFIED:20210113T144829Z
UID:21042-1612359000-1612362600@lhoft.com
SUMMARY:Transfer fund shares seamlessly with blockchain
DESCRIPTION:Use new technology and prepare for the digital future of fund management\nLearn how to easily transfer fund shares in a compliant way. Master the processes\, reduce the costs involved and discover the impact for traditional players. Join the webinar led by Mathieu Cottin\, Director of Business Development at Euronext-backed Tokeny Solutions. \nObjectives :\n1. Master the compliant transfer of funds shares on the Blockchain \n2. Evaluate the impact of the technology adoption for traditional players \nPROGRAMME\n13:30 START OF THE WEBINAR \n14:15 Q&A WITH THE AUDIENCE \nIMPORTANT\nThis event is strictly reserved for Paperjam Club members and will be subject to verification.
URL:https://lhoft.com/event/transfer-fund-shares-seamlessly-with-blockchain/
CATEGORIES:Conference
ATTACH;FMTTYPE=:
END:VEVENT
BEGIN:VEVENT
DTSTART;TZID=UTC:20210209T170000
DTEND;TZID=UTC:20210209T175000
DTSTAMP:20260422T020349
CREATED:20201109T041534Z
LAST-MODIFIED:20201109T041534Z
UID:21034-1612890000-1612893000@lhoft.com
SUMMARY:9th Annual Cross-Border Distribution Conference
DESCRIPTION:Description\n17:00 – 17:50 Panel Discussion: Where does the digitalisation of asset management go from here?\n·       The expansion of data warehousing in Luxemburg and opportunities for the asset management industry \n·       How are asset managers evolving in terms of AI and digital to meet the motivations of millennial investors? \n·       Has Covid-19 driven greater and permanent adoption of digital technology in the asset management industry? \n·       What reforms are required for digital distribution\, to make this acceleration sustainable and feasible in the future? \n·       What are the next steps for digitalisation in the industry and what do you see being the biggest challenges? \n  \nCharles Chang\, Professor of Finance\, Fanhai International School of Finance\, Fudan University \nSharmil Patwa\, Founder\, Opus Una \nNasir Zubairi\, CEO of the LHoFT \n  \nOther Confirmed speakers so far include:\n  \nEric Bruce\, Client Director APAC & China\, Aberdeen Standard Investments \nStewart Aldcroft\, Senior Advisor & MD\, Citi Markets & Securities Services \nDavid Roberts\, Head of Global Fixed Income\, Liontrust \nChris Chancellor\, Senior Director\, Global Insights\, Broadridge Analytics Solutions Ltd \nCharlotte Thorne\, Partner\, Capital Generation Partners \nJessica Ground\, Global Head of ESG\, Capital Group \nCharles Chang\, Professor of Finance\, Fanhai International School of Finance\, Fudan University \nYlva Baeckstrom\, Lecturer in Finance\, King’s College London \nDavid Blumer\, Senior Advisor and Chairman of Switzerland\, BlackRock \nJakob Stott\, Group CEO\, Quintet Private Bank \n  \nStay tuned for more information on the agenda and speakers !
URL:https://lhoft.com/event/9th-annual-cross-border-distribution-conference/
CATEGORIES:Conference
ATTACH;FMTTYPE=:
END:VEVENT
BEGIN:VEVENT
DTSTART;TZID=UTC:20210209T170000
DTEND;TZID=UTC:20210209T175000
DTSTAMP:20260422T020349
CREATED:20201109T041534Z
LAST-MODIFIED:20201109T041534Z
UID:34745-1612890000-1612893000@lhoft.com
SUMMARY:9th Annual Cross-Border Distribution Conference
DESCRIPTION:Description\n17:00 – 17:50 Panel Discussion: Where does the digitalisation of asset management go from here?\n·       The expansion of data warehousing in Luxemburg and opportunities for the asset management industry \n·       How are asset managers evolving in terms of AI and digital to meet the motivations of millennial investors? \n·       Has Covid-19 driven greater and permanent adoption of digital technology in the asset management industry? \n·       What reforms are required for digital distribution\, to make this acceleration sustainable and feasible in the future? \n·       What are the next steps for digitalisation in the industry and what do you see being the biggest challenges? \n  \nCharles Chang\, Professor of Finance\, Fanhai International School of Finance\, Fudan University \nSharmil Patwa\, Founder\, Opus Una \nNasir Zubairi\, CEO of the LHoFT \n  \nOther Confirmed speakers so far include:\n  \nEric Bruce\, Client Director APAC & China\, Aberdeen Standard Investments \nStewart Aldcroft\, Senior Advisor & MD\, Citi Markets & Securities Services \nDavid Roberts\, Head of Global Fixed Income\, Liontrust \nChris Chancellor\, Senior Director\, Global Insights\, Broadridge Analytics Solutions Ltd \nCharlotte Thorne\, Partner\, Capital Generation Partners \nJessica Ground\, Global Head of ESG\, Capital Group \nCharles Chang\, Professor of Finance\, Fanhai International School of Finance\, Fudan University \nYlva Baeckstrom\, Lecturer in Finance\, King’s College London \nDavid Blumer\, Senior Advisor and Chairman of Switzerland\, BlackRock \nJakob Stott\, Group CEO\, Quintet Private Bank \n  \nStay tuned for more information on the agenda and speakers !
URL:https://lhoft.com/event/9th-annual-cross-border-distribution-conference-2/
CATEGORIES:Conference
ATTACH;FMTTYPE=:
END:VEVENT
BEGIN:VEVENT
DTSTART;VALUE=DATE:20210224
DTEND;VALUE=DATE:20210227
DTSTAMP:20260422T020349
CREATED:20210114T215315Z
LAST-MODIFIED:20210114T215315Z
UID:34762-1614124800-1614383999@lhoft.com
SUMMARY:ALFI Digi Pulse Asia: Singapore and South-East Asia\, Hong Kong and Greater China\, and Tokyo
DESCRIPTION:Already familiar with ALFI roadshows? Now join virtual ALFI Digi Pulses.\nIn previous years\, ALFI hit the road to inform fund professionals across the globe of the opportunities that await them in Luxembourg. In order to continue to connect the fund community and provide the latest updates and insights\, ALFI redesigned the traditional roadshows into the new virtual format – ALFI Digi Pulses. \nMeet your peers\, engage with industry experts\, join discussions on the asset management and investment funds related hot topics and learn more on how the “Luxembourg toolbox” can meet or advance your business goals. \nWe have set up a seamless experience enabling you to follow the programme in real-time as if you were in the room with us. Tune in\, at no expense\, to expert and international virtual panels\, right from your homes. \nALFI is coming to Asia virtually in February 2021. Save the dates:\nSingapore and South-East Asia : 24 February 2021\nHong Kong and Greater China : 25 February 2021\nTokyo : 26 February 2021 \nMore details  and registration coming soon.
URL:https://lhoft.com/event/6518-2/
CATEGORIES:Conference
ATTACH;FMTTYPE=:
END:VEVENT
BEGIN:VEVENT
DTSTART;VALUE=DATE:20210224
DTEND;VALUE=DATE:20210227
DTSTAMP:20260422T020349
CREATED:20210114T215315Z
LAST-MODIFIED:20210114T215315Z
UID:21043-1614124800-1614383999@lhoft.com
SUMMARY:ALFI Digi Pulse Asia: Singapore and South-East Asia\, Hong Kong and Greater China\, and Tokyo
DESCRIPTION:Already familiar with ALFI roadshows? Now join virtual ALFI Digi Pulses.\nIn previous years\, ALFI hit the road to inform fund professionals across the globe of the opportunities that await them in Luxembourg. In order to continue to connect the fund community and provide the latest updates and insights\, ALFI redesigned the traditional roadshows into the new virtual format – ALFI Digi Pulses. \nMeet your peers\, engage with industry experts\, join discussions on the asset management and investment funds related hot topics and learn more on how the “Luxembourg toolbox” can meet or advance your business goals. \nWe have set up a seamless experience enabling you to follow the programme in real-time as if you were in the room with us. Tune in\, at no expense\, to expert and international virtual panels\, right from your homes. \nALFI is coming to Asia virtually in February 2021. Save the dates:\nSingapore and South-East Asia : 24 February 2021\nHong Kong and Greater China : 25 February 2021\nTokyo : 26 February 2021 \nMore details  and registration coming soon.
URL:https://lhoft.com/event/6518/
CATEGORIES:Conference
ATTACH;FMTTYPE=:
END:VEVENT
BEGIN:VEVENT
DTSTART;TZID=Europe/London:20210224T093000
DTEND;TZID=Europe/London:20210224T160000
DTSTAMP:20260422T020349
CREATED:20210216T152004Z
LAST-MODIFIED:20210216T152004Z
UID:34780-1614159000-1614182400@lhoft.com
SUMMARY:London Fintech Conference 2021: Startup Edition
DESCRIPTION:London Fintech Conference is back in 2021 providing practical advice for Fintech entrepreneurs for each stage of the startup lifecycle\n\n\n\n\n\nAbout this Event\n\n\nLondon Fintech Conference (LFC) is back again this year and will be taking place on Wednesday 24th February 2021 via Zoom! \nIn 2019\, having brought together more than 500 of the brightest minds from all across Europe and top executives from companies such as Coinbase\, Funding Circle\, Revolut and eToro\, LFC has established itself as the go-to event for financial innovation and cemented its status as the flagship Fintech conference in EMEA for students and young professionals. \nThis year we will focus on providing practical content for budding Fintech entrepreneurs. We will bring key players from leading Fintech startups\, technology platforms and design pioneers to provide you with practical tips on how to scale your startup and achieve product market fit. We will also explore integrated topics such as how governments can play a role in supporting the growth of the fintech industry and how fintech startups should integrate ethics into their business model.
URL:https://lhoft.com/event/london-fintech-conference-2021-startup-edition-2/
CATEGORIES:Conference
ATTACH;FMTTYPE=:
END:VEVENT
BEGIN:VEVENT
DTSTART;TZID=Europe/London:20210224T093000
DTEND;TZID=Europe/London:20210224T160000
DTSTAMP:20260422T020349
CREATED:20210216T152004Z
LAST-MODIFIED:20210216T152004Z
UID:21060-1614159000-1614182400@lhoft.com
SUMMARY:London Fintech Conference 2021: Startup Edition
DESCRIPTION:London Fintech Conference is back in 2021 providing practical advice for Fintech entrepreneurs for each stage of the startup lifecycle\n\n\n\n\n\nAbout this Event\n\n\nLondon Fintech Conference (LFC) is back again this year and will be taking place on Wednesday 24th February 2021 via Zoom! \nIn 2019\, having brought together more than 500 of the brightest minds from all across Europe and top executives from companies such as Coinbase\, Funding Circle\, Revolut and eToro\, LFC has established itself as the go-to event for financial innovation and cemented its status as the flagship Fintech conference in EMEA for students and young professionals. \nThis year we will focus on providing practical content for budding Fintech entrepreneurs. We will bring key players from leading Fintech startups\, technology platforms and design pioneers to provide you with practical tips on how to scale your startup and achieve product market fit. We will also explore integrated topics such as how governments can play a role in supporting the growth of the fintech industry and how fintech startups should integrate ethics into their business model.
URL:https://lhoft.com/event/london-fintech-conference-2021-startup-edition/
CATEGORIES:Conference
ATTACH;FMTTYPE=:
END:VEVENT
END:VCALENDAR