BEGIN:VCALENDAR
VERSION:2.0
PRODID:-//LHoFT - ECPv6.15.17//NONSGML v1.0//EN
CALSCALE:GREGORIAN
METHOD:PUBLISH
X-WR-CALNAME:LHoFT
X-ORIGINAL-URL:https://lhoft.com
X-WR-CALDESC:Events for LHoFT
REFRESH-INTERVAL;VALUE=DURATION:PT1H
X-Robots-Tag:noindex
X-PUBLISHED-TTL:PT1H
BEGIN:VTIMEZONE
TZID:Europe/Paris
BEGIN:DAYLIGHT
TZOFFSETFROM:+0100
TZOFFSETTO:+0200
TZNAME:CEST
DTSTART:20190331T010000
END:DAYLIGHT
BEGIN:STANDARD
TZOFFSETFROM:+0200
TZOFFSETTO:+0100
TZNAME:CET
DTSTART:20191027T010000
END:STANDARD
BEGIN:DAYLIGHT
TZOFFSETFROM:+0100
TZOFFSETTO:+0200
TZNAME:CEST
DTSTART:20200329T010000
END:DAYLIGHT
BEGIN:STANDARD
TZOFFSETFROM:+0200
TZOFFSETTO:+0100
TZNAME:CET
DTSTART:20201025T010000
END:STANDARD
BEGIN:DAYLIGHT
TZOFFSETFROM:+0100
TZOFFSETTO:+0200
TZNAME:CEST
DTSTART:20210328T010000
END:DAYLIGHT
BEGIN:STANDARD
TZOFFSETFROM:+0200
TZOFFSETTO:+0100
TZNAME:CET
DTSTART:20211031T010000
END:STANDARD
END:VTIMEZONE
BEGIN:VEVENT
DTSTART;TZID=Europe/Paris:20200529T000000
DTEND;TZID=Europe/Paris:20200529T000000
DTSTAMP:20260424T192221
CREATED:20250212T204532Z
LAST-MODIFIED:20250212T204532Z
UID:32212-1590710400-1590710400@lhoft.com
SUMMARY:Webinar: Thrive in the New Normal – design better ways of working
DESCRIPTION:Description\nLHoFT and Deloitte Luxembourg Webinar\n“Thrive in the New Normal – Design better ways of working.” \nWe are pleased to invite you to our next webinar “Thrive in the New Normal – Design better ways of working” developped in collaboration with our partner Deloitte Luxembourg. \nDr. Marc Sniukas\, Head of Innovation at Deloitte Luxembourg\, will explain why we need to discover new ways of working and how to reshape agile work to flourish in this new world. \nDuring this webinar\, Dr. Marc Sniukas will explain that  \nOrganizations face many challenges today… Digital Transformation\, changing customer expectations\, employee disengagement\, the need to cut cost\, the threat of being disrupted\, black swan events like COVID-19\, … The business environment is becoming increasingly volatile\, uncertain\, and complex. \nTo overcome these challenges\, organizations will need to… become increasingly adaptable\, boost their speed of execution\, be able to sense and respond to change in agile ways\, experiment with new solutions and approaches\, learn and adapt fast\, and transform continuously. \nYet our current ways of working\, leading\, and organizing are inhibiting us from doing so. Command-and-control cultures\, hierarchies\, rigid procedures\, siloed departments\, and teams\, complex matrix organizations\, crippling bureaucracies\, complicated decision-making and approval procedures\, inefficient meetings … all the distinctive features of how many organizations still operate today are inhibiting teams\, leaders\, companies from doing their best work. \nWe believe it’s time we re-invented how we work. \nDuration: 60 minutes \nMeet our speaker: \nDr. Marc Sniukas is the Head of Innovation at Deloitte Luxembourg \nDr. Marc Sniukas is a global expert on strategic innovation and corporate entrepreneurship\, author of The Art of Opportunity(Wiley 2016)\, and co-founder of The Business Model Gallery\, the world’s largest business model database. Besides his corporate work\, Marc is on the faculties of Duke Corporate Education and TEC de Monterrey. Marc is also one of the Founding Partners of Territory Global. \nAddress\nJoin us on ZOOM\nDate\n29 MAY 2020 to 29 MAY 2020\nStarting time: 12:00
URL:https://lhoft.com/event/webinar-thrive-in-the-new-normal-design-better-ways-of-working/
END:VEVENT
END:VCALENDAR