BEGIN:VCALENDAR
VERSION:2.0
PRODID:-//The LHoFT - Luxembourg House of Financial Technology - ECPv5.8.0//NONSGML v1.0//EN
CALSCALE:GREGORIAN
METHOD:PUBLISH
X-WR-CALNAME:The LHoFT - Luxembourg House of Financial Technology
X-ORIGINAL-URL:https://lhoft.com/en
X-WR-CALDESC:Events for The LHoFT - Luxembourg House of Financial Technology
BEGIN:VTIMEZONE
TZID:Europe/Luxembourg
BEGIN:DAYLIGHT
TZOFFSETFROM:+0100
TZOFFSETTO:+0200
TZNAME:CEST
DTSTART:20210328T010000
END:DAYLIGHT
BEGIN:STANDARD
TZOFFSETFROM:+0200
TZOFFSETTO:+0100
TZNAME:CET
DTSTART:20211031T010000
END:STANDARD
END:VTIMEZONE
BEGIN:VEVENT
DTSTART;TZID=Europe/Luxembourg:20210928T090000
DTEND;TZID=Europe/Luxembourg:20210928T130000
DTSTAMP:20210721T211514
CREATED:20210630T152046Z
LAST-MODIFIED:20210630T152430Z
UID:8726-1632819600-1632834000@lhoft.com
SUMMARY:Horizon Conference - Making an impact since 2011
DESCRIPTION:Horizon Conference goes phygital\nBreaking the Horizon\n\n\n\n\n\nThe Horizon Conference is tailored to offer attendees innovative and cutting-edge insight into current concerns and opportunities within the context of the evolving financial industry landscape. The Horizon Conference gathers industry professionals from around the world to discuss the future of the financial sector\, and present key trends affecting the market today and tomorrow. Positioned as an ideal platform for industry professional and experts alike to immerse themselves into key debates\, the Horizon Conference highlights critical and decisive subjects and their effect on the market. \n\n\n\n\n\n\nFor this 10th edition of our Horizon conference\, which will be a phygital event\, we are proud to have crafted a highly engaging and topical agenda this year! It is an opportunity to analyse the future of the financial sector by challenging the status quo and getting insights from industry leaders. What topics will affect the market? What technologies can we imagine using? Where should we focus our resources? \nAgenda\n\n\n\n\n\n\n09:00 – 09:30\nWelcome & Introduction\nJohn Psaila – Deloitte Luxembourg\n\n\n09:30 – 10:05\nTechnology\, Innovation & Sustainability\nAvanti & Leo Sharma – Workshop 4 me\n\n\n10:05 – 10:40\nFuture of Money\nBruno Colmant – Degroof Petercam\n\n\n10:40 – 11:15\nCustomer centricity for FSI\nNancy Rademaker – Nexxworks\n\n\n11:15 – 11:50\nMotivational speaker\nRainer Hersch & Orchestra\n\n\n11:50 – 12:25\nFuture of the Luxembourg financial place\nNicolas Mackel – Luxembourg for finance\n\n\n\nModerator\nSarah Khabirpour\n\n\n\n 
URL:https://lhoft.com/en/event/horizon-conference-making-an-intact-since-2011/
LOCATION:Hybrid Event
CATEGORIES:Hybrid Event
ATTACH;FMTTYPE=image/png:https://lhoft.com/wp-content/uploads/2021/06/Capture-decran-2021-06-30-a-17.15.28.png
END:VEVENT
BEGIN:VEVENT
DTSTART;VALUE=DATE:20211020
DTEND;VALUE=DATE:20211021
DTSTAMP:20210721T211514
CREATED:20210521T094627Z
LAST-MODIFIED:20210622T092250Z
UID:8404-1634688000-1634774399@lhoft.com
SUMMARY:PwC Cybersecurity & Privacy Days
DESCRIPTION:From IT security to digital trust: how to help CISOs\, DPOs and CEOs ensure they keep their organisation secure in a digital society.\nCybersecurity and digital transformation are top of CEOs minds for 2021\, according to the latest PwC Global CEO Survey. Cyber moved up the threat list\, and is now the second highest concern among CEOs – topped only by their anxiety about pandemics. \nIn the meantime\, CISOs are facing an unlimited number of various attacks and risks everyday. DPOs see their mission evolve to ensure data security and privacy are respected\, in a complex environment. \nThis 4-days event welcomes distinguished speakers from all over the world\, representing a rich panel of thought leaders. They share the stage with companies engaging in a pitch competition of their innovative solutions and present how they meet cybersecurity or privacy challenges. \nParticipants are also able to participate in business matchmaking\, join interactive breakout sessions and take part in a networking forum with their peers and industry leaders. \n20 October: Under the patronage of PwC Cybersecurity and Privacy Days – a special PwC DPO Meet Up will be held. \n21 October: Under the patronage of PwC Cybersecurity and Privacy Days – a special PwC Cybersecurity Community Call will be held. \n27 October: CEO Corner \n28 October: CISO Corner & DPO Corner
URL:https://lhoft.com/en/event/pwc-cybersecurity-privacy-days/2021-10-20/
LOCATION:Hybrid Event
CATEGORIES:Hybrid Event
ATTACH;FMTTYPE=image/png:https://lhoft.com/wp-content/uploads/2021/05/Capture-decran-2021-05-21-a-11.39.36.png
END:VEVENT
BEGIN:VEVENT
DTSTART;VALUE=DATE:20211021
DTEND;VALUE=DATE:20211022
DTSTAMP:20210721T211514
CREATED:20210521T094627Z
LAST-MODIFIED:20210622T092252Z
UID:8413-1634774400-1634860799@lhoft.com
SUMMARY:PwC Cybersecurity & Privacy Days
DESCRIPTION:From IT security to digital trust: how to help CISOs\, DPOs and CEOs ensure they keep their organisation secure in a digital society.\nCybersecurity and digital transformation are top of CEOs minds for 2021\, according to the latest PwC Global CEO Survey. Cyber moved up the threat list\, and is now the second highest concern among CEOs – topped only by their anxiety about pandemics. \nIn the meantime\, CISOs are facing an unlimited number of various attacks and risks everyday. DPOs see their mission evolve to ensure data security and privacy are respected\, in a complex environment. \nThis 4-days event welcomes distinguished speakers from all over the world\, representing a rich panel of thought leaders. They share the stage with companies engaging in a pitch competition of their innovative solutions and present how they meet cybersecurity or privacy challenges. \nParticipants are also able to participate in business matchmaking\, join interactive breakout sessions and take part in a networking forum with their peers and industry leaders. \n20 October: Under the patronage of PwC Cybersecurity and Privacy Days – a special PwC DPO Meet Up will be held. \n21 October: Under the patronage of PwC Cybersecurity and Privacy Days – a special PwC Cybersecurity Community Call will be held. \n27 October: CEO Corner \n28 October: CISO Corner & DPO Corner
URL:https://lhoft.com/en/event/pwc-cybersecurity-privacy-days/2021-10-21/
LOCATION:Hybrid Event
CATEGORIES:Hybrid Event
ATTACH;FMTTYPE=image/png:https://lhoft.com/wp-content/uploads/2021/05/Capture-decran-2021-05-21-a-11.39.36.png
END:VEVENT
BEGIN:VEVENT
DTSTART;VALUE=DATE:20211027
DTEND;VALUE=DATE:20211028
DTSTAMP:20210721T211514
CREATED:20210521T094627Z
LAST-MODIFIED:20210622T092252Z
UID:8414-1635292800-1635379199@lhoft.com
SUMMARY:PwC Cybersecurity & Privacy Days
DESCRIPTION:From IT security to digital trust: how to help CISOs\, DPOs and CEOs ensure they keep their organisation secure in a digital society.\nCybersecurity and digital transformation are top of CEOs minds for 2021\, according to the latest PwC Global CEO Survey. Cyber moved up the threat list\, and is now the second highest concern among CEOs – topped only by their anxiety about pandemics. \nIn the meantime\, CISOs are facing an unlimited number of various attacks and risks everyday. DPOs see their mission evolve to ensure data security and privacy are respected\, in a complex environment. \nThis 4-days event welcomes distinguished speakers from all over the world\, representing a rich panel of thought leaders. They share the stage with companies engaging in a pitch competition of their innovative solutions and present how they meet cybersecurity or privacy challenges. \nParticipants are also able to participate in business matchmaking\, join interactive breakout sessions and take part in a networking forum with their peers and industry leaders. \n20 October: Under the patronage of PwC Cybersecurity and Privacy Days – a special PwC DPO Meet Up will be held. \n21 October: Under the patronage of PwC Cybersecurity and Privacy Days – a special PwC Cybersecurity Community Call will be held. \n27 October: CEO Corner \n28 October: CISO Corner & DPO Corner
URL:https://lhoft.com/en/event/pwc-cybersecurity-privacy-days/2021-10-27/
LOCATION:Hybrid Event
CATEGORIES:Hybrid Event
ATTACH;FMTTYPE=image/png:https://lhoft.com/wp-content/uploads/2021/05/Capture-decran-2021-05-21-a-11.39.36.png
END:VEVENT
BEGIN:VEVENT
DTSTART;VALUE=DATE:20211028
DTEND;VALUE=DATE:20211029
DTSTAMP:20210721T211514
CREATED:20210521T094627Z
LAST-MODIFIED:20210622T092252Z
UID:8415-1635379200-1635465599@lhoft.com
SUMMARY:PwC Cybersecurity & Privacy Days
DESCRIPTION:From IT security to digital trust: how to help CISOs\, DPOs and CEOs ensure they keep their organisation secure in a digital society.\nCybersecurity and digital transformation are top of CEOs minds for 2021\, according to the latest PwC Global CEO Survey. Cyber moved up the threat list\, and is now the second highest concern among CEOs – topped only by their anxiety about pandemics. \nIn the meantime\, CISOs are facing an unlimited number of various attacks and risks everyday. DPOs see their mission evolve to ensure data security and privacy are respected\, in a complex environment. \nThis 4-days event welcomes distinguished speakers from all over the world\, representing a rich panel of thought leaders. They share the stage with companies engaging in a pitch competition of their innovative solutions and present how they meet cybersecurity or privacy challenges. \nParticipants are also able to participate in business matchmaking\, join interactive breakout sessions and take part in a networking forum with their peers and industry leaders. \n20 October: Under the patronage of PwC Cybersecurity and Privacy Days – a special PwC DPO Meet Up will be held. \n21 October: Under the patronage of PwC Cybersecurity and Privacy Days – a special PwC Cybersecurity Community Call will be held. \n27 October: CEO Corner \n28 October: CISO Corner & DPO Corner
URL:https://lhoft.com/en/event/pwc-cybersecurity-privacy-days/2021-10-28/
LOCATION:Hybrid Event
CATEGORIES:Hybrid Event
ATTACH;FMTTYPE=image/png:https://lhoft.com/wp-content/uploads/2021/05/Capture-decran-2021-05-21-a-11.39.36.png
END:VEVENT
END:VCALENDAR