BEGIN:VCALENDAR
VERSION:2.0
PRODID:-//The LHoFT - Luxembourg House of Financial Technology - ECPv5.8.0//NONSGML v1.0//EN
CALSCALE:GREGORIAN
METHOD:PUBLISH
X-WR-CALNAME:The LHoFT - Luxembourg House of Financial Technology
X-ORIGINAL-URL:https://lhoft.com/en
X-WR-CALDESC:Events for The LHoFT - Luxembourg House of Financial Technology
BEGIN:VTIMEZONE
TZID:Europe/Luxembourg
BEGIN:DAYLIGHT
TZOFFSETFROM:+0100
TZOFFSETTO:+0200
TZNAME:CEST
DTSTART:20210328T010000
END:DAYLIGHT
BEGIN:STANDARD
TZOFFSETFROM:+0200
TZOFFSETTO:+0100
TZNAME:CET
DTSTART:20211031T010000
END:STANDARD
END:VTIMEZONE
BEGIN:VEVENT
DTSTART;VALUE=DATE:20210914
DTEND;VALUE=DATE:20210916
DTSTAMP:20210721T210414
CREATED:20210715T113749Z
LAST-MODIFIED:20210715T113831Z
UID:8848-1631577600-1631750399@lhoft.com
SUMMARY:ICT Spring 2021
DESCRIPTION:The LHoFT is pleased to sponsor the ICT Spring 2021\, a Global Tech Conference hosting an array of international professionals. \nICT Spring offers the participants a unique opportunity to deepen their digital knowledge\, capture the Value of the fast-growing Fintech\, drive innovation in the Supply Chain industry\, pierce the secrets of IT Security and explore the impact of Space Technologies on Terrestrial Businesses. \n \nAll this through high level conferences\, exhibitions and demonstrations of the latest Tech Trends and Innovations. \nThe LHoFT Team will welcome you on our dedicated stand gathering the amazing Fintech community.  \nDive into a unique experience\, and join us. You can take your ticket using the LHoFT Code: LHOFT21 \nFor any question\, send an email to marketing@lhoft.lu
URL:https://lhoft.com/en/event/ict-spring-2021/
LOCATION:European Convention Center Luxembourg (ECCL)\, 4 Place de l'Europe\, 1499 Luxembourg
CATEGORIES:Conference
ATTACH;FMTTYPE=image/png:https://lhoft.com/wp-content/uploads/2021/07/Capture-decran-2021-07-15-a-13.35.16.png
END:VEVENT
END:VCALENDAR