BEGIN:VCALENDAR
VERSION:2.0
PRODID:-//LHoFT - ECPv6.15.17//NONSGML v1.0//EN
CALSCALE:GREGORIAN
METHOD:PUBLISH
X-WR-CALNAME:LHoFT
X-ORIGINAL-URL:https://lhoft.com
X-WR-CALDESC:Events for LHoFT
REFRESH-INTERVAL;VALUE=DURATION:PT1H
X-Robots-Tag:noindex
X-PUBLISHED-TTL:PT1H
BEGIN:VTIMEZONE
TZID:UTC
BEGIN:STANDARD
TZOFFSETFROM:+0000
TZOFFSETTO:+0000
TZNAME:UTC
DTSTART:20180101T000000
END:STANDARD
END:VTIMEZONE
BEGIN:VEVENT
DTSTART;TZID=UTC:20190321T083000
DTEND;TZID=UTC:20190321T113000
DTSTAMP:20260424T194345
CREATED:20190321T091042Z
LAST-MODIFIED:20190321T091042Z
UID:20800-1553157000-1553167800@lhoft.com
SUMMARY:TELINDUS' BREAKFAST #1 - “How do you get started with Big Data Projects”
DESCRIPTION:Description\nFirst Telindus’ Breakfast of the year.\nThis edition will be dedicated to big data with the following topic : “How do you get started with Big Data projects?”  \nEvent Program\n8.30am : Registrations open \n9.00am : Welcome speech \nBy Ralf Hustadt\, HOC and Big Data Lead\, Telindus \n9.10am: Case study \nBy Matt Watts\, Data Strategist & Director of Technology\, NetApp \n9.45am: Case Study \nBy Fabrice Hansen\, Head of Digital Transformation\, Paul Wurth
URL:https://lhoft.com/event/telindus-breakfast-1-how-do-you-get-started-with-big-data-projects/
ATTACH;FMTTYPE=:
END:VEVENT
END:VCALENDAR