BEGIN:VCALENDAR
VERSION:2.0
PRODID:-//LHoFT - ECPv6.15.17//NONSGML v1.0//EN
CALSCALE:GREGORIAN
METHOD:PUBLISH
X-WR-CALNAME:LHoFT
X-ORIGINAL-URL:https://lhoft.com
X-WR-CALDESC:Events for LHoFT
REFRESH-INTERVAL;VALUE=DURATION:PT1H
X-Robots-Tag:noindex
X-PUBLISHED-TTL:PT1H
BEGIN:VTIMEZONE
TZID:UTC
BEGIN:STANDARD
TZOFFSETFROM:+0000
TZOFFSETTO:+0000
TZNAME:UTC
DTSTART:20190101T000000
END:STANDARD
END:VTIMEZONE
BEGIN:VEVENT
DTSTART;TZID=UTC:20201029T080000
DTEND;TZID=UTC:20201029T170000
DTSTAMP:20260424T192220
CREATED:20191029T031726Z
LAST-MODIFIED:20191029T031726Z
UID:20908-1603958400-1603990800@lhoft.com
SUMMARY:PwC Cybersecurity Day
DESCRIPTION:Description\nPwC Cybersecurity Day – Gain insights from the latest international trends in Cyber & Privacy\nFrom IT security to digital trust: how to help CISOs\, DPOs and CEOs ensure they keep the organisation secure in a digital society.\nThe PwC Cybersecurity Day offers a unique opportunity to gain insights from the latest international trends in cybersecurity and privacy. \nThe event agenda is split into two distinct parts. \n\nThe morning session provides technical updates\nfollowed by a pitching contest of innovative cyber solutions\, leaving the afternoon with dedicated sessions for the audience:\n\n\nCISO Corner for information security and IT experts;\nDPO Corner for persons in charge of data protection and privacy\, including legal\, risk and compliance fonctions;\nCEO Corner for executives.\n\nDuring previous editions\, we have welcomed distinguished speakers from all over the world\, representing a rich panel of thought leaders. They shared the stage with companies engaging in a pitch competition of their innovative solutions and presented how they meet cybersecurity challenges. \nParticipants are also able to participate in business matchmaking\, join interactive breakout sessions and take part in a networking forum with their peers and industry leaders. \nThe next edition of the PwC Cybersecurity Day will be held on 29 October 2020.\nGiven the current environment of uncertainty due to the covid-19\, we have made the decision of proposing the participants to attend the 2020 PwC Cybersecurity Day event either in person or remotely. The number of in-person attendees will be limited and on a voluntary basis. The situation will be assessed again in a few weeks and PwC reserves the right to change the format of the conference and make the 2020 PwC Cybersecurity Day event virtual only.
URL:https://lhoft.com/event/pwc-cybersecurity-day/
CATEGORIES:Webinar
END:VEVENT
END:VCALENDAR