BEGIN:VCALENDAR
VERSION:2.0
PRODID:-//The LHoFT - Luxembourg House of Financial Technology - ECPv5.8.0//NONSGML v1.0//EN
CALSCALE:GREGORIAN
METHOD:PUBLISH
X-WR-CALNAME:The LHoFT - Luxembourg House of Financial Technology
X-ORIGINAL-URL:https://lhoft.com/en
X-WR-CALDESC:Events for The LHoFT - Luxembourg House of Financial Technology
BEGIN:VTIMEZONE
TZID:Europe/Luxembourg
BEGIN:DAYLIGHT
TZOFFSETFROM:+0100
TZOFFSETTO:+0200
TZNAME:CEST
DTSTART:20210328T010000
END:DAYLIGHT
BEGIN:STANDARD
TZOFFSETFROM:+0200
TZOFFSETTO:+0100
TZNAME:CET
DTSTART:20211031T010000
END:STANDARD
END:VTIMEZONE
BEGIN:VEVENT
DTSTART;VALUE=DATE:20210921
DTEND;VALUE=DATE:20210923
DTSTAMP:20210721T211311
CREATED:20210114T220228Z
LAST-MODIFIED:20210114T222026Z
UID:6524-1632182400-1632355199@lhoft.com
SUMMARY:Global Distribution Conference
DESCRIPTION:A standing item in many a fund professional’s agendas\, the Global Distribution Conference focuses on global distribution\, Luxembourg’s core specialism. Hosted in partnership with Nicsa\, the US National Investment Company Service Association\, and HKIFA\, the Hong Kong Investment Fund Association\, it brings together major fund distributors and asset managers from around the globe. \nThis year the virtual edition of the event will be held on 21 & 22 September. \nStay tuned for details and registration. \nA golf tournament for ALFI members and conference attendees is traditionally organised on the day before the conference. Don’t miss it.
URL:https://lhoft.com/en/event/global-distribution-conference/
LOCATION:Online Event
CATEGORIES:Conference
ATTACH;FMTTYPE=image/png:https://lhoft.com/wp-content/uploads/2021/01/Capture-decran-2021-01-14-a-23.01.19.png
ORGANIZER;CN="ALFI":MAILTO:events@alfi.lu
END:VEVENT
BEGIN:VEVENT
DTSTART;VALUE=DATE:20211130
DTEND;VALUE=DATE:20211202
DTSTAMP:20210721T211311
CREATED:20210114T220616Z
LAST-MODIFIED:20210114T221810Z
UID:6527-1638230400-1638403199@lhoft.com
SUMMARY:PE & RE Conference
DESCRIPTION:Luxembourg  – a hub where companies serve the European alternative fund market\nIf your focus is on private assets\, you know that Luxembourg is the right place for your business: in Luxembourg\, you can find the administration and operations teams that can react fast and show flexibility in unprecedented times. Because in Luxembourg the seamless cooperation of a multitude of local expert practitioners and service providers is tried and tested\, the number of asset managers building new and innovative solutions on this solid foundation is ever-increasing. The Luxembourg “toolbox” solution can ensure the best outcome for deals in any market. \nA traditional get-together of the world’s leading private equity and real estate fund professionals\nThe ALFI PE & RE Conference is a firm favourite with the who’s who in Alternatives in Luxembourg that attracts more than 600 CEOs\, COOs\, CFOs\, product designers\, service providers\, and legal experts each year. \nThis year\, it is scheduled for 30 November and 1 December 2021. \nMore details coming soon.
URL:https://lhoft.com/en/event/pe-re-conference/
LOCATION:Luxemboug
CATEGORIES:Conference
ATTACH;FMTTYPE=image/png:https://lhoft.com/wp-content/uploads/2021/01/Capture-decran-2021-01-14-a-23.05.01.png
ORGANIZER;CN="ALFI":MAILTO:events@alfi.lu
END:VEVENT
END:VCALENDAR