BEGIN:VCALENDAR
VERSION:2.0
PRODID:-//The LHoFT - Luxembourg House of Financial Technology - ECPv5.8.0//NONSGML v1.0//EN
CALSCALE:GREGORIAN
METHOD:PUBLISH
X-WR-CALNAME:The LHoFT - Luxembourg House of Financial Technology
X-ORIGINAL-URL:https://lhoft.com/en
X-WR-CALDESC:Events for The LHoFT - Luxembourg House of Financial Technology
BEGIN:VTIMEZONE
TZID:Europe/Luxembourg
BEGIN:DAYLIGHT
TZOFFSETFROM:+0100
TZOFFSETTO:+0200
TZNAME:CEST
DTSTART:20210328T010000
END:DAYLIGHT
BEGIN:STANDARD
TZOFFSETFROM:+0200
TZOFFSETTO:+0100
TZNAME:CET
DTSTART:20211031T010000
END:STANDARD
END:VTIMEZONE
BEGIN:VEVENT
DTSTART;TZID=Europe/Luxembourg:20210922T120000
DTEND;TZID=Europe/Luxembourg:20210922T131500
DTSTAMP:20210721T211351
CREATED:20210611T122058Z
LAST-MODIFIED:20210707T112149Z
UID:8553-1632312000-1632316500@lhoft.com
SUMMARY:THE PARTICLES OF BRANDS
DESCRIPTION:Welcome to the 360° of “Modern Day” Marketing Masterclass series introducing you to how top Marketers and Fintech brands set new standards to resonate\, compete and lead in a marketplace of fragmented attention. \nFor our 1st episode we’ll cover the topic: \nCREATING UNICORN BRANDS THROUGH PEOPLE & CULTURE\nWe’ll learn and discuss: \n\nHow to build socially responsible\, creative\, and culturally relevant brands\nHow to embed culture in your branding competitive advantage\nHow to become culture\, community & customer-centric\n\nAgenda: \n12h00 – 12h35 PM – Panel Discussion – THE PARTICLES OF BRANDS \n12h35 – 12h40 PM – Quiz – Have you paid attention? \nTake part in the live quiz and score. The best scores and names will be displayed and be able to introduce themselves to the audience. \n12h40 PM – 1h10 PM (two workshops to choose from) \n  \n  \n  \n  \n  \nUPCOMING
URL:https://lhoft.com/en/event/the-particles/
ATTACH;FMTTYPE=image/png:https://lhoft.com/wp-content/uploads/2021/06/Screenshot-2021-06-30-at-14.30.47.png
LOCATION:https://us02web.zoom.us/meeting/register/tZ0qcuGhrT8oE9BmLzLVfCY0aV7FlbHtOOK3
END:VEVENT
END:VCALENDAR