BEGIN:VCALENDAR
VERSION:2.0
PRODID:-//The LHoFT - Luxembourg House of Financial Technology - ECPv5.8.0//NONSGML v1.0//EN
CALSCALE:GREGORIAN
METHOD:PUBLISH
X-WR-CALNAME:The LHoFT - Luxembourg House of Financial Technology
X-ORIGINAL-URL:https://lhoft.com/en
X-WR-CALDESC:Events for The LHoFT - Luxembourg House of Financial Technology
BEGIN:VTIMEZONE
TZID:Europe/Luxembourg
BEGIN:DAYLIGHT
TZOFFSETFROM:+0100
TZOFFSETTO:+0200
TZNAME:CEST
DTSTART:20210328T010000
END:DAYLIGHT
BEGIN:STANDARD
TZOFFSETFROM:+0200
TZOFFSETTO:+0100
TZNAME:CET
DTSTART:20211031T010000
END:STANDARD
END:VTIMEZONE
BEGIN:VEVENT
DTSTART;TZID=Europe/Luxembourg:20210929T120000
DTEND;TZID=Europe/Luxembourg:20210929T131500
DTSTAMP:20210721T211756
CREATED:20210611T122403Z
LAST-MODIFIED:20210630T124120Z
UID:8555-1632916800-1632921300@lhoft.com
SUMMARY:THE CONTENT MARKETING DILEMMA - PRODUCTION VS DISTRIBUTION
DESCRIPTION:Welcome to the 360° of “Modern Day” Marketing Masterclass series introducing you to how top Marketers and Fintech brands set new standards to resonate\, compete and lead in a marketplace of fragmented attention. \nTHE CONTENT MARKETING DILEMMA \nLearn \n\nHow do you define good content\nWhat does good distribution look like?\nWhy is volume of content so important and how do you balance quantity and quality?\n\nAgenda: \n12h00 – 12h35 PM – Panel Discussion – THE CONTENT MARKETING DILEMMA \n12h35 – 12h40 PM – Quiz – Have you paid attention? \nTake part in the live quiz and score. The best scores and names will be displayed and be able to introduce themselves. \n12h40 PM – 1h10 PM (two workshops to choose from) \n  \n  \n  \nUPCOMING \n  \n \n 
URL:https://lhoft.com/en/event/the-dilemma/
ATTACH;FMTTYPE=image/png:https://lhoft.com/wp-content/uploads/2021/06/Screenshot-2021-06-15-at-12.17.33.png
LOCATION:https://us02web.zoom.us/meeting/register/tZIode6sqTopGdHvzf77sm9AfJMdi2Qk3SXc
END:VEVENT
END:VCALENDAR