BEGIN:VCALENDAR
VERSION:2.0
PRODID:-//LHoFT - ECPv6.15.17//NONSGML v1.0//EN
CALSCALE:GREGORIAN
METHOD:PUBLISH
X-WR-CALNAME:LHoFT
X-ORIGINAL-URL:https://lhoft.com
X-WR-CALDESC:Events for LHoFT
REFRESH-INTERVAL;VALUE=DURATION:PT1H
X-Robots-Tag:noindex
X-PUBLISHED-TTL:PT1H
BEGIN:VTIMEZONE
TZID:Europe/Luxembourg
BEGIN:DAYLIGHT
TZOFFSETFROM:+0100
TZOFFSETTO:+0200
TZNAME:CEST
DTSTART:20200329T010000
END:DAYLIGHT
BEGIN:STANDARD
TZOFFSETFROM:+0200
TZOFFSETTO:+0100
TZNAME:CET
DTSTART:20201025T010000
END:STANDARD
BEGIN:DAYLIGHT
TZOFFSETFROM:+0100
TZOFFSETTO:+0200
TZNAME:CEST
DTSTART:20210328T010000
END:DAYLIGHT
BEGIN:STANDARD
TZOFFSETFROM:+0200
TZOFFSETTO:+0100
TZNAME:CET
DTSTART:20211031T010000
END:STANDARD
BEGIN:DAYLIGHT
TZOFFSETFROM:+0100
TZOFFSETTO:+0200
TZNAME:CEST
DTSTART:20220327T010000
END:DAYLIGHT
BEGIN:STANDARD
TZOFFSETFROM:+0200
TZOFFSETTO:+0100
TZNAME:CET
DTSTART:20221030T010000
END:STANDARD
END:VTIMEZONE
BEGIN:VEVENT
DTSTART;TZID=Europe/Luxembourg:20210323T090000
DTEND;TZID=Europe/Luxembourg:20210325T100000
DTSTAMP:20260424T195359
CREATED:20210319T130638Z
LAST-MODIFIED:20210319T130638Z
UID:21078-1616490000-1616666400@lhoft.com
SUMMARY:After 2025\, the technological changes that will shake up the financial sector
DESCRIPTION:Societe Generale Private Banking is delighted to invite you to their next dedicated webinar on :\nAfter 2025\, the technological changes that will shake up the financial sector\n23rd March 2021 : 9.00 AM to 10.00 AM : in FRENCH \n25th March 2021: 9.00 AM to 10.00 AM : in ENGLISH \nNumerous technologies have emerged in recent years\, such as blockchain\, AI\, tokenization and Big Data exploitation. These increasingly rapid technological developments generate uncertainties but are also a source of strong growth prospects. This webinar will be an opportunity to share with you our perspectives and to imagine the evolutions we can reasonably expect in 2025 for the banking and financial industry. \nSpeakers \n\nBertrand Kauffmann\, Managing Director Market Solutions & Digital Transformation Leader Societe Generale Private Banking.\nLaurent Marochini\, Head of Innovation & Blockchain Leader at Societe Generale Securities Services\nAlex Panican\, Head of Partnership & Ecosystem Development at the LHoFT\n\nIt will be possible to exchange with our experts during a question-and-answer session at the end of the conference. \nFor a complete experience\, we recommend that you connect from a computer and one of the following three browsers: Firefox\, Chrome or Opera. The presentation is also accessible from a mobile phone. \nThe presentation will be available in replay after the webinar. \nIn case of difficulties\, we invite you to contact: Events.SGLUX@socgen.com \n 
URL:https://lhoft.com/event/sgpb-webinar-after-2025-the-technological-changes-that-will-shake-up-the-financial-sector/
CATEGORIES:Webinar
ATTACH;FMTTYPE=:
END:VEVENT
END:VCALENDAR