BEGIN:VCALENDAR
VERSION:2.0
PRODID:-//The LHoFT - Luxembourg House of Financial Technology - ECPv5.8.0//NONSGML v1.0//EN
CALSCALE:GREGORIAN
METHOD:PUBLISH
X-WR-CALNAME:The LHoFT - Luxembourg House of Financial Technology
X-ORIGINAL-URL:https://lhoft.com/en
X-WR-CALDESC:Events for The LHoFT - Luxembourg House of Financial Technology
BEGIN:VTIMEZONE
TZID:Europe/Luxembourg
BEGIN:DAYLIGHT
TZOFFSETFROM:+0100
TZOFFSETTO:+0200
TZNAME:CEST
DTSTART:20210328T010000
END:DAYLIGHT
BEGIN:STANDARD
TZOFFSETFROM:+0200
TZOFFSETTO:+0100
TZNAME:CET
DTSTART:20211031T010000
END:STANDARD
END:VTIMEZONE
BEGIN:VEVENT
DTSTART;VALUE=DATE:20211027
DTEND;VALUE=DATE:20211028
DTSTAMP:20210721T212010
CREATED:20210521T094627Z
LAST-MODIFIED:20210622T092252Z
UID:8414-1635292800-1635379199@lhoft.com
SUMMARY:PwC Cybersecurity & Privacy Days
DESCRIPTION:From IT security to digital trust: how to help CISOs\, DPOs and CEOs ensure they keep their organisation secure in a digital society.\nCybersecurity and digital transformation are top of CEOs minds for 2021\, according to the latest PwC Global CEO Survey. Cyber moved up the threat list\, and is now the second highest concern among CEOs – topped only by their anxiety about pandemics. \nIn the meantime\, CISOs are facing an unlimited number of various attacks and risks everyday. DPOs see their mission evolve to ensure data security and privacy are respected\, in a complex environment. \nThis 4-days event welcomes distinguished speakers from all over the world\, representing a rich panel of thought leaders. They share the stage with companies engaging in a pitch competition of their innovative solutions and present how they meet cybersecurity or privacy challenges. \nParticipants are also able to participate in business matchmaking\, join interactive breakout sessions and take part in a networking forum with their peers and industry leaders. \n20 October: Under the patronage of PwC Cybersecurity and Privacy Days – a special PwC DPO Meet Up will be held. \n21 October: Under the patronage of PwC Cybersecurity and Privacy Days – a special PwC Cybersecurity Community Call will be held. \n27 October: CEO Corner \n28 October: CISO Corner & DPO Corner
URL:https://lhoft.com/en/event/pwc-cybersecurity-privacy-days/2021-10-27/
LOCATION:Hybrid Event
CATEGORIES:Hybrid Event
ATTACH;FMTTYPE=image/png:https://lhoft.com/wp-content/uploads/2021/05/Capture-decran-2021-05-21-a-11.39.36.png
END:VEVENT
END:VCALENDAR