BEGIN:VCALENDAR
VERSION:2.0
PRODID:-//LHoFT - ECPv6.15.17//NONSGML v1.0//EN
CALSCALE:GREGORIAN
METHOD:PUBLISH
X-WR-CALNAME:LHoFT
X-ORIGINAL-URL:https://lhoft.com
X-WR-CALDESC:Events for LHoFT
REFRESH-INTERVAL;VALUE=DURATION:PT1H
X-Robots-Tag:noindex
X-PUBLISHED-TTL:PT1H
BEGIN:VTIMEZONE
TZID:Europe/Paris
BEGIN:DAYLIGHT
TZOFFSETFROM:+0100
TZOFFSETTO:+0200
TZNAME:CEST
DTSTART:20200329T010000
END:DAYLIGHT
BEGIN:STANDARD
TZOFFSETFROM:+0200
TZOFFSETTO:+0100
TZNAME:CET
DTSTART:20201025T010000
END:STANDARD
BEGIN:DAYLIGHT
TZOFFSETFROM:+0100
TZOFFSETTO:+0200
TZNAME:CEST
DTSTART:20210328T010000
END:DAYLIGHT
BEGIN:STANDARD
TZOFFSETFROM:+0200
TZOFFSETTO:+0100
TZNAME:CET
DTSTART:20211031T010000
END:STANDARD
BEGIN:DAYLIGHT
TZOFFSETFROM:+0100
TZOFFSETTO:+0200
TZNAME:CEST
DTSTART:20220327T010000
END:DAYLIGHT
BEGIN:STANDARD
TZOFFSETFROM:+0200
TZOFFSETTO:+0100
TZNAME:CET
DTSTART:20221030T010000
END:STANDARD
END:VTIMEZONE
BEGIN:VEVENT
DTSTART;TZID=Europe/Paris:20210211T220000
DTEND;TZID=Europe/Paris:20210211T230000
DTSTAMP:20260424T192420
CREATED:20210203T082427Z
LAST-MODIFIED:20210203T082427Z
UID:21057-1613080800-1613084400@lhoft.com
SUMMARY:Proving Security Effectiveness to Your CISO\, CFO and Board
DESCRIPTION:About this webinar\nInvestments in cyber security have rapidly increased in recent years\, yet high-profile breaches continue to make headlines\, and the economic and financial losses stemming from these breaches continue to grow. Combined with economic pressures and extensive remote workforces\, CISOs and CFOs must now work together to understand where to cut spending without adding risk. But without proper security validation and assessment tools that can credibly quantify risks in dollar terms\, this becomes an impossible task.\n\n\nAttend this webinar to :\n• Learn how to fully validate your organization’s cyber health and measure its impact on the company’s financial posture and market performance Determine your organization’s risk profile\, the financial impact of cyber performance and communicate about risk in dollar-based terms\n• Discover how mismanagement\, underutilization and duplication of security controls drive up costs that increase as they flow through the organization\n• Learn how a bottom-up approach to security validation combined with a top-down market-validated risk assessment increases ROI of your security investments \nExpert Speakers :\n\nEarl Matthews\, Maj Gen\, (Ret)\, V.P. of Strategy\, Mandiant Security Validation\nRyan Dodd\, Founder and CEO\, Cyberhedge
URL:https://lhoft.com/event/proving-security-effectiveness-to-your-ciso-cfo-and-board/
CATEGORIES:Webinar
ATTACH;FMTTYPE=:
END:VEVENT
END:VCALENDAR