BEGIN:VCALENDAR
VERSION:2.0
PRODID:-//LHoFT - ECPv6.15.17//NONSGML v1.0//EN
CALSCALE:GREGORIAN
METHOD:PUBLISH
X-WR-CALNAME:LHoFT
X-ORIGINAL-URL:https://lhoft.com
X-WR-CALDESC:Events for LHoFT
REFRESH-INTERVAL;VALUE=DURATION:PT1H
X-Robots-Tag:noindex
X-PUBLISHED-TTL:PT1H
BEGIN:VTIMEZONE
TZID:Europe/Luxembourg
BEGIN:DAYLIGHT
TZOFFSETFROM:+0100
TZOFFSETTO:+0200
TZNAME:CEST
DTSTART:20200329T010000
END:DAYLIGHT
BEGIN:STANDARD
TZOFFSETFROM:+0200
TZOFFSETTO:+0100
TZNAME:CET
DTSTART:20201025T010000
END:STANDARD
BEGIN:DAYLIGHT
TZOFFSETFROM:+0100
TZOFFSETTO:+0200
TZNAME:CEST
DTSTART:20210328T010000
END:DAYLIGHT
BEGIN:STANDARD
TZOFFSETFROM:+0200
TZOFFSETTO:+0100
TZNAME:CET
DTSTART:20211031T010000
END:STANDARD
BEGIN:DAYLIGHT
TZOFFSETFROM:+0100
TZOFFSETTO:+0200
TZNAME:CEST
DTSTART:20220327T010000
END:DAYLIGHT
BEGIN:STANDARD
TZOFFSETFROM:+0200
TZOFFSETTO:+0100
TZNAME:CET
DTSTART:20221030T010000
END:STANDARD
END:VTIMEZONE
BEGIN:VEVENT
DTSTART;TZID=Europe/Luxembourg:20210325T130000
DTEND;TZID=Europe/Luxembourg:20210325T150000
DTSTAMP:20260424T195009
CREATED:20210225T091206Z
LAST-MODIFIED:20210225T091206Z
UID:21066-1616677200-1616684400@lhoft.com
SUMMARY:Master the art of pitching with Nasir Zubairi - Episode 2 - Focus on SALES
DESCRIPTION:Demystify the art\, Understand the science of pitching yourself\nJoin us on Thursday 25th of March at 1.00PM for the second episode of our series with Nasir Zubairi\, CEO of the LHoFT on “Mastering the art of Pitching\, Episode 2″ dedicated to SALES \nNasir will offer you a joined session followed by 5 private slots where you will be able to dig deeper with your questions.  \nREGISTER NOW  \nAgenda\n\n1.00PM: Opening of the session “Master the art of pitching with Nasir Zubairi”\n2.00PM – 2.10PM: Break\n2.10PM: 5 slots X 10 minutes > Book HERE 1 private slot of 10 min to ask all your question – First come\, First Serve\n3.00PM: End of the session “Master the art of pitching with Nasir Zubairi”\n\nREGISTER NOW  \nThe LHoFT Foundation will offer you several “Master the art of pitching with Nasir Zubairi” sessions this year. \nStay tuned for the next date. \n 
URL:https://lhoft.com/event/master-the-art-of-pitching-with-nasir-zubairi-episode-2/
CATEGORIES:Webinar
ATTACH;FMTTYPE=:
END:VEVENT
END:VCALENDAR