BEGIN:VCALENDAR
VERSION:2.0
PRODID:-//LHoFT - ECPv6.15.17//NONSGML v1.0//EN
CALSCALE:GREGORIAN
METHOD:PUBLISH
X-WR-CALNAME:LHoFT
X-ORIGINAL-URL:https://lhoft.com
X-WR-CALDESC:Events for LHoFT
REFRESH-INTERVAL;VALUE=DURATION:PT1H
X-Robots-Tag:noindex
X-PUBLISHED-TTL:PT1H
BEGIN:VTIMEZONE
TZID:Europe/Luxembourg
BEGIN:DAYLIGHT
TZOFFSETFROM:+0100
TZOFFSETTO:+0200
TZNAME:CEST
DTSTART:20200329T010000
END:DAYLIGHT
BEGIN:STANDARD
TZOFFSETFROM:+0200
TZOFFSETTO:+0100
TZNAME:CET
DTSTART:20201025T010000
END:STANDARD
BEGIN:DAYLIGHT
TZOFFSETFROM:+0100
TZOFFSETTO:+0200
TZNAME:CEST
DTSTART:20210328T010000
END:DAYLIGHT
BEGIN:STANDARD
TZOFFSETFROM:+0200
TZOFFSETTO:+0100
TZNAME:CET
DTSTART:20211031T010000
END:STANDARD
BEGIN:DAYLIGHT
TZOFFSETFROM:+0100
TZOFFSETTO:+0200
TZNAME:CEST
DTSTART:20220327T010000
END:DAYLIGHT
BEGIN:STANDARD
TZOFFSETFROM:+0200
TZOFFSETTO:+0100
TZNAME:CET
DTSTART:20221030T010000
END:STANDARD
END:VTIMEZONE
BEGIN:VEVENT
DTSTART;TZID=Europe/Luxembourg:20210426T080000
DTEND;TZID=Europe/Luxembourg:20210430T170000
DTSTAMP:20260424T193410
CREATED:20210325T105403Z
LAST-MODIFIED:20210325T105403Z
UID:21080-1619424000-1619802000@lhoft.com
SUMMARY:LUXEMBOURG BLOCKCHAIN WEEK 2021
DESCRIPTION:Luxembourg Blockchain Week\, taking place as a digital conference this April\, brings together local and international players as well as spotlights some of the exciting grand duchy businesses operating in blockchain and distributed ledger technologies. \nLuxembourg Blockchain Lab projects to be showcased include Evercity\, Neofacto\, Compellio\, Medlogistics and Filedgr.\n  \nMonday 26th of April. 4pm (CEST)\nLuxembourg Blockchain Lab Welcome Speech \n\n\n\n\n\n\nMinisterial Keynote by the Prime Minister of Luxembourg \nBoston Blockchain Association Keynote \nBlock to be announced \nDebate: “Is Blockchain the way to go?” \n  \nTuesday 27th of April\n\n\n\n\n\n\n\n\n\n\n\n\nStream Logistics: 2pm (CEST) \nWe are building the blocks! Stay tuned \nLuxembourg Blockchain Lab project: Filedgr \nStream Health: 5pm (CEST) We are building the blocks! Stay tuned \nLuxembourg Blockchain Lab project: Medlogistics \n  \nWednesday 28th of April\n\n\n\n\n\n\n\n\n\n\n\n\nStream Technology: 2pm (CEST) \nWe are building the blocks! Stay tuned \nLuxembourg Blockchain Lab project: Compellio \nStream Research and Development: 5pm (CEST) \nWe are building the blocks! Stay tuned \n  \nThursday 29th of April\n\n\n\n\n\n\n\n\n\n\n\n\n\n\n\nStream Finance: 2pm (CEST)\n\n2:00pm: Opening speech by the Finance Minister\, H.E. Mr Gramegna\n2:10pm: Luxembourg Blockchain Lab project: Evercity\n2:20pm: Deep-dive session CBDC decrypted. Moderated by Biba Homsy (Homsy Legal); Panelists: Steven Becker (Maker Foundation)\, Scott Hendry (Bank of Canada)\, Jon Helgi Egilsson (Monerieum)\, Dr. Thomas Moser (Swiss National Bank)\, Pierre Thissen (Banque Centrale du Luxembourg)\,\n2:55pm: Fireside chat To which extent Blockchain/DLT is the solution to facilitate access to financial services? Moderated by Nasir Zubairi (LHoFT); Panelists: Patrick Corker (Circle)\, Candace Kelly (Stellar Network)\, Elizabeth Rossiello (AZA)\, Joseph Seibert (Signature Bank)\n\nStream Public Sector: 5pm (CEST)\n\n5:00pm Keynote by Nena Dokuzov\n5:10pm Luxembourg Blockchain Lab project: NeoFacto\n5:20pm Fireside chat Public & private sector collaboration for a bright future: on trust and identity moderated by Alexia Martinel (Nomadic Labs); Panelists: Anne Cécile Davron (Popcorn)\, Alain Broustail (Sword Group)\, Daniel Du Seuil (Public / European Blockchain Partnership)\, Johanes Ebert (Gravity)\, Attila Vágvölgyi (IOP )\, Wayne Chang (Spruce Systems)\n5:50pm Interactive session Use cases in the public sector. Moderator: Patrick Weber (Ministry of Digitalisation); Use cases: Nimit Sawhney (Voatz)\, Todd Miller (Chromaway)\n\nSide event – 3:45pm: Boston Blockchain Association – 4C’s Payments\n\n\n\nFriday 30th of April\n\n\n\n\n\n\n\n\n\n\n\n\nStream SDGs & Climate: 2pm (CEST) \nWe are building the blocks! Stay tuned \nLuxembourg Blockchain Lab project: GreenEarthAgro \nStream Digital Assets: 5pm (CEST) \nWe are building the blocks! Stay tuned \nLuxembourg Blockchain Lab project: Climate Action Blockchain \n\nFor more information\, visit www.blockchainweek.lu
URL:https://lhoft.com/event/luxembourg-blockchain-week-2021/
END:VEVENT
END:VCALENDAR