BEGIN:VCALENDAR
VERSION:2.0
PRODID:-//LHoFT - ECPv6.15.17//NONSGML v1.0//EN
CALSCALE:GREGORIAN
METHOD:PUBLISH
X-WR-CALNAME:LHoFT
X-ORIGINAL-URL:https://lhoft.com
X-WR-CALDESC:Events for LHoFT
REFRESH-INTERVAL;VALUE=DURATION:PT1H
X-Robots-Tag:noindex
X-PUBLISHED-TTL:PT1H
BEGIN:VTIMEZONE
TZID:UTC
BEGIN:STANDARD
TZOFFSETFROM:+0000
TZOFFSETTO:+0000
TZNAME:UTC
DTSTART:20190101T000000
END:STANDARD
END:VTIMEZONE
BEGIN:VEVENT
DTSTART;TZID=UTC:20201102T080000
DTEND;TZID=UTC:20201106T170000
DTSTAMP:20260424T193436
CREATED:20201102T095927Z
LAST-MODIFIED:20201102T095927Z
UID:21023-1604304000-1604682000@lhoft.com
SUMMARY:Hong-Kong Fintech Week 2020
DESCRIPTION:Description\nHong-Kong Fintech Week 2020\nTranscending to a truly Global FinTech Event\nIn its fifth edition\, Hong Kong FinTech Week will completely reinvent your previous event experience\, providing you with access online from wherever you are. \n\n25\,000+ Attendees\n350+ Speakers\n70+ Economies\n500+ Exhibitors\n4\,000+ Meetings\n300+ Media\n\nCheck the Complete AGENDA – The timing is set according to HKT (UTC+8) \nMeet LHoFT Entrepreneurs taking part to our Delegation\n \nContact the LHoFT Team to receive your free ticket.
URL:https://lhoft.com/event/hong-kong-fintech-week-2020/
CATEGORIES:Webinar
ATTACH;FMTTYPE=image/jpeg:https://lhoft.com/wp-content/uploads/2022/11/Foyer_Marc-Hotton-HD-004-72dpi-ConvertImage-351x465-1-200x265-1.jpg
END:VEVENT
END:VCALENDAR