BEGIN:VCALENDAR
VERSION:2.0
PRODID:-//The LHoFT - Luxembourg House of Financial Technology - ECPv5.8.0//NONSGML v1.0//EN
CALSCALE:GREGORIAN
METHOD:PUBLISH
X-WR-CALNAME:The LHoFT - Luxembourg House of Financial Technology
X-ORIGINAL-URL:https://lhoft.com/en
X-WR-CALDESC:Events for The LHoFT - Luxembourg House of Financial Technology
BEGIN:VTIMEZONE
TZID:Europe/Luxembourg
BEGIN:DAYLIGHT
TZOFFSETFROM:+0100
TZOFFSETTO:+0200
TZNAME:CEST
DTSTART:20210328T010000
END:DAYLIGHT
BEGIN:STANDARD
TZOFFSETFROM:+0200
TZOFFSETTO:+0100
TZNAME:CET
DTSTART:20211031T010000
END:STANDARD
END:VTIMEZONE
BEGIN:VEVENT
DTSTART;VALUE=DATE:20211123
DTEND;VALUE=DATE:20211126
DTSTAMP:20210721T212042
CREATED:20210428T155421Z
LAST-MODIFIED:20210428T165158Z
UID:8094-1637625600-1637884799@lhoft.com
SUMMARY:EU Open Data Days - Shaping our future with open data
DESCRIPTION:Online from Luxembourg to the world: The Publications Office of the European Union is organising the first EU Open Data Days \nData is a key asset for digital transformation. It is a building material for research and innovation\,  personalised products and services\, powerful new technologies and better decision-making. These translate into solutions to societal challenges that can improve and even save people’s lives\, as the current pandemic demonstrates. Open data is also freely available to generate value through reuse. \nThis unique online event will serve as a knowledge hub\, bringing the benefits of open data and its reuse to the EU public sector\, and through it to people and businesses. Get inspired and discover the latest trends and most innovative solutions! \nThe EU Open Data Days comprise : \n\n\nEU DataViz 2021 addresses the needs of the EU’s public sector engaged in open data and data visualisation. It provides a platform to explore the latest trends in open data and data visualisation – a crucial tool to explore and explain complex information in a meaningful way.\n\n\nEU Datathon 2021 allows the tech community to put into practice the open data produced by the EU institutions\, agencies and bodies and to showcase its value. Previous editions of EU Datathon have shown that the potential of open data\, combined with talent and creativity\, is limitless !
URL:https://lhoft.com/en/event/eu-open-data-days-shaping-our-future-with-open-data/
LOCATION:Online Event
CATEGORIES:Livestream Event
ATTACH;FMTTYPE=image/png:https://lhoft.com/wp-content/uploads/2021/04/Capture-decran-2021-04-28-a-17.40.56.png
END:VEVENT
END:VCALENDAR