BEGIN:VCALENDAR
VERSION:2.0
PRODID:-//LHoFT - ECPv6.15.17//NONSGML v1.0//EN
CALSCALE:GREGORIAN
METHOD:PUBLISH
X-WR-CALNAME:LHoFT
X-ORIGINAL-URL:https://lhoft.com
X-WR-CALDESC:Events for LHoFT
REFRESH-INTERVAL;VALUE=DURATION:PT1H
X-Robots-Tag:noindex
X-PUBLISHED-TTL:PT1H
BEGIN:VTIMEZONE
TZID:Europe/Luxembourg
BEGIN:DAYLIGHT
TZOFFSETFROM:+0100
TZOFFSETTO:+0200
TZNAME:CEST
DTSTART:20200329T010000
END:DAYLIGHT
BEGIN:STANDARD
TZOFFSETFROM:+0200
TZOFFSETTO:+0100
TZNAME:CET
DTSTART:20201025T010000
END:STANDARD
BEGIN:DAYLIGHT
TZOFFSETFROM:+0100
TZOFFSETTO:+0200
TZNAME:CEST
DTSTART:20210328T010000
END:DAYLIGHT
BEGIN:STANDARD
TZOFFSETFROM:+0200
TZOFFSETTO:+0100
TZNAME:CET
DTSTART:20211031T010000
END:STANDARD
BEGIN:DAYLIGHT
TZOFFSETFROM:+0100
TZOFFSETTO:+0200
TZNAME:CEST
DTSTART:20220327T010000
END:DAYLIGHT
BEGIN:STANDARD
TZOFFSETFROM:+0200
TZOFFSETTO:+0100
TZNAME:CET
DTSTART:20221030T010000
END:STANDARD
END:VTIMEZONE
BEGIN:VEVENT
DTSTART;VALUE=DATE:20211125
DTEND;VALUE=DATE:20211126
DTSTAMP:20260424T191834
CREATED:20210428T161232Z
LAST-MODIFIED:20210428T161232Z
UID:21098-1637798400-1637884799@lhoft.com
SUMMARY:EU Datathon 2021
DESCRIPTION:What is it about?\nThe fifth edition of EU Datathon\, the open data competition\, has been launched on the Open Data Day on 5 March 2021. \nOnline from Luxembourg to the world\, it is organised by the Publications Office of the European Union as part of the first EU Open Data Days which includes also EU DataViz. \nTo take part\, you should propose the development of an application that links and uses open datasets. \nYour application should showcase opportunities for concrete business models or social enterprises. It is also expected to find suitable new approaches and solutions to help Europe achieve important goals set by the European Commission through the use of open data. \nSubmit your proposal by 21 May. \nWhat are the challenges?\n\nChallenge 1: ‘A European Green Deal’\nChallenge 2: ‘An economy that works for people’\nChallenge 3: ‘A Europe fit for the digital age’\n\nWhat are the prizes?\nThis is your chance to demonstrate the potential that open data present in today’s society and\, of course\, your creativity and talent. It is also your chance to claim your share of the total prize fund amounting to EUR 99 000. \nNine winning teams\, three teams per challenge\, will be shortlisted. If you are among them\, you will be invited to develop your application and present it online on 25 November. \nThe final ranking of the winning teams for each challenge will be decided at this event and the teams will be awarded the following prizes for each of the challenges: \n\nFirst place: EUR 18 000\nSecond place: EUR 10 000\nThird place: EUR 5 000
URL:https://lhoft.com/event/eu-datathon-2021/
CATEGORIES:Livestream Event
ATTACH;FMTTYPE=:
END:VEVENT
END:VCALENDAR