BEGIN:VCALENDAR
VERSION:2.0
PRODID:-//LHoFT - ECPv6.15.17//NONSGML v1.0//EN
CALSCALE:GREGORIAN
METHOD:PUBLISH
X-WR-CALNAME:LHoFT
X-ORIGINAL-URL:https://lhoft.com
X-WR-CALDESC:Events for LHoFT
REFRESH-INTERVAL;VALUE=DURATION:PT1H
X-Robots-Tag:noindex
X-PUBLISHED-TTL:PT1H
BEGIN:VTIMEZONE
TZID:Europe/Luxembourg
BEGIN:DAYLIGHT
TZOFFSETFROM:+0100
TZOFFSETTO:+0200
TZNAME:CEST
DTSTART:20200329T010000
END:DAYLIGHT
BEGIN:STANDARD
TZOFFSETFROM:+0200
TZOFFSETTO:+0100
TZNAME:CET
DTSTART:20201025T010000
END:STANDARD
BEGIN:DAYLIGHT
TZOFFSETFROM:+0100
TZOFFSETTO:+0200
TZNAME:CEST
DTSTART:20210328T010000
END:DAYLIGHT
BEGIN:STANDARD
TZOFFSETFROM:+0200
TZOFFSETTO:+0100
TZNAME:CET
DTSTART:20211031T010000
END:STANDARD
BEGIN:DAYLIGHT
TZOFFSETFROM:+0100
TZOFFSETTO:+0200
TZNAME:CEST
DTSTART:20220327T010000
END:DAYLIGHT
BEGIN:STANDARD
TZOFFSETFROM:+0200
TZOFFSETTO:+0100
TZNAME:CET
DTSTART:20221030T010000
END:STANDARD
END:VTIMEZONE
BEGIN:VEVENT
DTSTART;TZID=Europe/Luxembourg:20210224T120000
DTEND;TZID=Europe/Luxembourg:20210224T131500
DTSTAMP:20260424T194436
CREATED:20210117T183953Z
LAST-MODIFIED:20210117T183953Z
UID:21051-1614168000-1614172500@lhoft.com
SUMMARY:Demystifying Alternative Funding Schemes
DESCRIPTION:THE 360° OF FUNDRAISING – Discover the full value chain of fundraising in Luxembourg\nDemystifying alternative funding schemes ✅ \n(please make sure that your latest ZOOM version 5.43 is activated)\nIn our first series of digital events in 2021\, we introduce you to key figures from across the scene of startup fundraising in Luxembourg. Angel investors\, VCs\, institutional investors\, government support\, and alternative finance. \nAre you looking to raise funds? Are you wondering how you can benefit from crowdfunding platforms\, ICOs\, and STOs through private investors? Would you like to know whether your project is eligible for European financing? If you’ve checked those boxes\, subscribe to our session on Wednesday\, February 24th at 12h00 PM on “Demystifying alternative funding schemes”. \nAgenda:\n12h00 – 12h35 PM – Panel Discussion – “Demystifying alternative funding schemes” \nListen in\, interact and learn about: \n\nHow alternative financing schemes work\nWhat advantages you can expect compared to traditional financing schemes\nHow to leverage those investments to grow your business overtime\n\n12h35 – 12h40 PM – Quiz – Have you paid attention? \nTake part in the live quiz and become a top-scoring champ. The three best scoring participants will be displayed and be able to introduce themselves. \n12h40 PM – 1h10 PM (two workshops to choose from) \nYour in-depth guide to accessing alternative financing schemes \nWorkshop 1: TAKING OFF ON STOKR – THE INFINITE FLEET CASE STUDY\nMeet Tobias Seidl\, Co-Founder of Stokr and Hope Fan\, CMO and Chris Wood\, COO from Infinite Fleet for a best practice guide on how to leverage fundraising platforms to reach 10 million in fundraising. \nWorkshop 2: SO YOU WANT TO RAISE ON CROWDCUBE?\nMeet Bert Boerman\, CEO of governance.com for a best practice guide on how to leverage crowdfunding platforms and scale.
URL:https://lhoft.com/event/demistifying-alternative-funding-schemes/
CATEGORIES:Webinar
ATTACH;FMTTYPE=:
END:VEVENT
END:VCALENDAR