BEGIN:VCALENDAR
VERSION:2.0
PRODID:-//LHoFT - ECPv6.15.17//NONSGML v1.0//EN
CALSCALE:GREGORIAN
METHOD:PUBLISH
X-WR-CALNAME:LHoFT
X-ORIGINAL-URL:https://lhoft.com
X-WR-CALDESC:Events for LHoFT
REFRESH-INTERVAL;VALUE=DURATION:PT1H
X-Robots-Tag:noindex
X-PUBLISHED-TTL:PT1H
BEGIN:VTIMEZONE
TZID:UTC
BEGIN:STANDARD
TZOFFSETFROM:+0000
TZOFFSETTO:+0000
TZNAME:UTC
DTSTART:20190101T000000
END:STANDARD
END:VTIMEZONE
BEGIN:VEVENT
DTSTART;TZID=UTC:20201123T084500
DTEND;TZID=UTC:20201123T120000
DTSTAMP:20260424T192118
CREATED:20201123T033621Z
LAST-MODIFIED:20201123T033621Z
UID:21030-1606121100-1606132800@lhoft.com
SUMMARY:ALFI London Conference: A new decade\, a new industry?
DESCRIPTION:Description\nWe welcome you to join us digitally at the ALFI London Conference 2020.\nA new decade\, a new industry?\nWhy attend?\nBenefit from numerous networking opportunities with top representatives all gathered in one place\nUse the opportunity to engage with the ALFI community representing the second largest investment fund domicile in the world\nDebate innovation in operations\, product development and strategic issues which matter to your business\nWe make our virtual events easily accessible and enjoyable\, as if you were in the room with us\, by offering audience engagement\, live panels and discussions. We also include social networking and interactive content into the experience. \nConference attendance is free of charge for fund industry specialists and the  registration is now open. \nAgenda:\nThis year’s edition entitled “A new decade\, a new industry?” will feature a plenary session composed of keynote speakers\, our traditional CEO panel\, a discussion on the future UK/EU relationship and its implications for the asset management sector\, and a regulator perspective on future priorities and themes. We will end with four parallel workshops on: \n1. How the Luxembourg ecosystem is transforming in support of the asset manager.\n2. Product evolution in Luxembourg\n3. Sustainable finance and impact investing\n4. Real assets \nDiscover the  Full Agenda HERE  \nPlease note that all sessions are indicated in UK time
URL:https://lhoft.com/event/alfi-london-conference-a-new-decade-a-new-industry/
CATEGORIES:Webinar
END:VEVENT
END:VCALENDAR