BEGIN:VCALENDAR
VERSION:2.0
PRODID:-//LHoFT - ECPv6.15.17//NONSGML v1.0//EN
CALSCALE:GREGORIAN
METHOD:PUBLISH
X-WR-CALNAME:LHoFT
X-ORIGINAL-URL:https://lhoft.com
X-WR-CALDESC:Events for LHoFT
REFRESH-INTERVAL;VALUE=DURATION:PT1H
X-Robots-Tag:noindex
X-PUBLISHED-TTL:PT1H
BEGIN:VTIMEZONE
TZID:UTC
BEGIN:STANDARD
TZOFFSETFROM:+0000
TZOFFSETTO:+0000
TZNAME:UTC
DTSTART:20180101T000000
END:STANDARD
END:VTIMEZONE
BEGIN:VEVENT
DTSTART;VALUE=DATE:20190924
DTEND;VALUE=DATE:20190926
DTSTAMP:20260424T192012
CREATED:20190924T072008Z
LAST-MODIFIED:20190924T072008Z
UID:20864-1569283200-1569455999@lhoft.com
SUMMARY:ALFI - Global Distribution Conference 2019
DESCRIPTION:Description\nALFI – Global Distribution Conference 2019\nNew distribution markets – New distribution products – New distribution technology – New distribution regulation \n\nData is Big. Intelligence will be Augmented. At the ALFI Global Distribution Conference 2019\, data and automation will certainly be a subject for discussion\, but not only. In very practical terms\, data handling and interpretation will also become app-rehensible. Be curious!\nGenerational changes impact the fund industry in many ways\, perhaps distribution above all. Is it the millennials’ demands that link evolving transparency and responsibility standards\, innovative pricing and cutting-edge distribution technology?\nWhere is the fund shopping app that allows us to sort and filter by social impact and price? Or do institutional investors hold the key to the future after all? What role will pensions play in successful distribution?\nNEW: Workshops and break-out sessions will include dedicated portrayals of the geographical hot spots of fund distribution – the expected and the (perhaps) unexpected regions.\n\n \nHave a look at the 2018 conference video report to experience the atmosphere of the event\, sneak a peek backstage and hear testimonials from the participants. \nThe early bird rate expires on 6 September 2019 \nMore info here! 
URL:https://lhoft.com/event/alfi-global-distribution-conference-2019/
CATEGORIES:Webinar
ATTACH;FMTTYPE=:
END:VEVENT
END:VCALENDAR